Workbook

Sheet ANALISIS DESVIACIONS
A1: Org. | B1: Prog. | C1: Capitol | D1: Econ. | E1: Sp. | F1: CONCAT | G1: Descripció | H1: Inicials | I1: Modificacions | J1: Definitius | K1: Despeses compromeses | L1: Obligacions reconegudes netes | M1: Pagaments | N1: Obligacions pendents de pagament | O1: Romanents de crèdit | P1: DESV. CI VS ORN | Q1: DESV. CD VS ORN
A2: 1 | B2: 13200 | C2: 1 | D2: 1200301 | E2: 1 | F2: =_xlfn.CONCAT(A2,B2,D2) -> 1132001200301 | G2: Sous Grup C1 | H2: 11422.79 | I2: 0 | J2: 11422.79 | K2: 11538.76 | L2: 11538.76 | M2: 11538.76 | N2: 0 | O2: -115.97 | P2: =(L2*100%)/H2 -> 1.0101525 | Q2: =(L2*100%)/J2 -> 1.0101525 | R2: =L2-H2 -> 115.97 | S2: =L2-J2 -> 115.97
A3: 1 | B3: 13200 | C3: 1 | D3: 1200401 | E3: 1 | F3: =_xlfn.CONCAT(A3,B3,D3) -> 1132001200401 | G3: Sous Grup C2 | H3: 203524.92 | I3: -26474.91 | J3: 177050.01 | K3: 182095.83 | L3: 182095.83 | M3: 182095.83 | N3: 0 | O3: -5045.82 | P3: =(L3*100%)/H3 -> 0.89471024 | Q3: =(L3*100%)/J3 -> 1.0284994 | R3: =L3-H3 -> -21429.09 | S3: =L3-J3 -> 5045.82
A4: 1 | B4: 13200 | C4: 1 | D4: 1200601 | E4: 1 | F4: =_xlfn.CONCAT(A4,B4,D4) -> 1132001200601 | G4: Triennis funcionaris | H4: 22174.92 | I4: 0 | J4: 22174.92 | K4: 20660.85 | L4: 20660.85 | M4: 20660.85 | N4: 0 | O4: 1514.07 | P4: =(L4*100%)/H4 -> 0.93172151 | Q4: =(L4*100%)/J4 -> 0.93172151 | R4: =L4-H4 -> -1514.07 | S4: =L4-J4 -> -1514.07
A5: 1 | B5: 13200 | C5: 1 | D5: 1210001 | E5: 1 | F5: =_xlfn.CONCAT(A5,B5,D5) -> 1132001210001 | G5: Complement Destí Personal Funcionari | H5: 116146.86 | I5: 0 | J5: 116146.86 | K5: 104460.29 | L5: 104460.29 | M5: 104460.29 | N5: 0 | O5: 11686.57 | P5: =(L5*100%)/H5 -> 0.89938109 | Q5: =(L5*100%)/J5 -> 0.89938109 | R5: =L5-H5 -> -11686.57 | S5: =L5-J5 -> -11686.57
A6: 1 | B6: 13200 | C6: 1 | D6: 1210101 | E6: 1 | F6: =_xlfn.CONCAT(A6,B6,D6) -> 1132001210101 | G6: Complement Específic Personal Funcionari | H6: 329103.58 | I6: -5496 | J6: 323607.58 | K6: 298504.24 | L6: 298504.24 | M6: 298504.24 | N6: 0 | O6: 25103.34 | P6: =(L6*100%)/H6 -> 0.90702216 | Q6: =(L6*100%)/J6 -> 0.9224266 | R6: =L6-H6 -> -30599.34 | S6: =L6-J6 -> -25103.34
A7: 1 | B7: 13200 | C7: 1 | D7: 1300001 | E7: 1 | F7: =_xlfn.CONCAT(A7,B7,D7) -> 1132001300001 | G7: Retribucions Bàsiques Personal Laboral Fix | H7: 35375.64 | I7: 0 | J7: 35375.64 | K7: 40755.67 | L7: 40755.67 | M7: 40755.67 | N7: 0 | O7: -5380.03 | P7: =(L7*100%)/H7 -> 1.1520829 | Q7: =(L7*100%)/J7 -> 1.1520829 | R7: =L7-H7 -> 5380.03 | S7: =L7-J7 -> 5380.03
A8: 1 | B8: 13200 | C8: 1 | D8: 1300002 | E8: 1 | F8: =_xlfn.CONCAT(A8,B8,D8) -> 1132001300002 | G8: Triennis Personal Laboral Fix | H8: 9018.55 | I8: 0 | J8: 9018.55 | K8: 7457.83 | L8: 7457.83 | M8: 7457.83 | N8: 0 | O8: 1560.72 | P8: =(L8*100%)/H8 -> 0.82694336 | Q8: =(L8*100%)/J8 -> 0.82694336 | R8: =L8-H8 -> -1560.72 | S8: =L8-J8 -> -1560.72
A9: 1 | B9: 13200 | C9: 1 | D9: 1300101 | E9: 1 | F9: =_xlfn.CONCAT(A9,B9,D9) -> 1132001300101 | G9: Hores Extres Personal Laboral Fix | H9: 2900 | I9: 0 | J9: 2900 | K9: 1467.39 | L9: 1467.39 | M9: 1467.39 | N9: 0 | O9: 1432.61 | P9: =(L9*100%)/H9 -> 0.50599655 | Q9: =(L9*100%)/J9 -> 0.50599655 | R9: =L9-H9 -> -1432.61 | S9: =L9-J9 -> -1432.61
A10: 1 | B10: 13200 | C10: 1 | D10: 1300201 | E10: 1 | F10: =_xlfn.CONCAT(A10,B10,D10) -> 1132001300201 | G10: Complement Destí Personal Laboral Fix | H10: 18408.93 | I10: 0 | J10: 18408.93 | K10: 23830.74 | L10: 23830.74 | M10: 23830.74 | N10: 0 | O10: -5421.81 | P10: =(L10*100%)/H10 -> 1.2945206 | Q10: =(L10*100%)/J10 -> 1.2945206 | R10: =L10-H10 -> 5421.81 | S10: =L10-J10 -> 5421.81
A11: 1 | B11: 13200 | C11: 1 | D11: 1300202 | E11: 1 | F11: =_xlfn.CONCAT(A11,B11,D11) -> 1132001300202 | G11: Complement Específic Personal Laboral Fix | H11: 21722.25 | I11: 0 | J11: 21722.25 | K11: 28009.95 | L11: 28009.95 | M11: 28009.95 | N11: 0 | O11: -6287.7 | P11: =(L11*100%)/H11 -> 1.289459 | Q11: =(L11*100%)/J11 -> 1.289459 | R11: =L11-H11 -> 6287.7 | S11: =L11-J11 -> 6287.7
A12: 1 | B12: 13200 | C12: 1 | D12: 1310001 | E12: 1 | F12: =_xlfn.CONCAT(A12,B12,D12) -> 1132001310001 | G12: Retribucions Bàsiques Personal Laboral Temp | H12: 19252.89 | I12: 0 | J12: 19252.89 | K12: 9780.54 | L12: 9780.54 | M12: 9780.54 | N12: 0 | O12: 9472.35 | P12: =(L12*100%)/H12 -> 0.50800373 | Q12: =(L12*100%)/J12 -> 0.50800373 | R12: =L12-H12 -> -9472.35 | S12: =L12-J12 -> -9472.35
A13: 1 | B13: 13200 | C13: 1 | D13: 1310002 | E13: 1 | F13: =_xlfn.CONCAT(A13,B13,D13) -> 1132001310002 | G13: Triennis laboral temporal | H13: 5112.15 | I13: 0 | J13: 5112.15 | K13: 0 | L13: 0 | M13: 0 | N13: 0 | O13: 5112.15 | P13: =(L13*100%)/H13 -> 0 | Q13: =(L13*100%)/J13 -> 0 | R13: =L13-H13 -> -5112.15 | S13: =L13-J13 -> -5112.15
... A1904: 10 | B1904: 34200 | C1904: 6 | D1904: 6320038 | E1904: 6 | F1904: =_xlfn.CONCAT(A1904,B1904,D1904) -> 10342006320038 | G1904: Vestuaris camp de futbol | H1904: 70000 | I1904: 67000 | J1904: 137000 | K1904: 133685.93 | L1904: 133685.93 | M1904: 133685.93 | N1904: 0 | O1904: 3314.07 | P1904: =(L1904*100%)/H1904 -> 1.909799 | Q1904: =(L1904*100%)/J1904 -> 0.97580971 | R1904: =L1904-H1904 -> 63685.93 | S1904: =L1904-J1904 -> -3314.07
A1905: 4 | B1905: 49100 | C1905: 2 | D1905: 2210501 | E1905: 2 | F1905: =_xlfn.CONCAT(A1905,B1905,D1905) -> 4491002210501 | H1905: 0 | I1905: 0 | J1905: 0 | K1905: 22.88 | L1905: 22.88 | M1905: 22.88 | N1905: 0 | O1905: -22.88 | P1905: =(L1905*100%)/H1905 -> #DIV/0! | Q1905: =(L1905*100%)/J1905 -> #DIV/0! | R1905: =L1905-H1905 -> 22.88 | S1905: =L1905-J1905 -> 22.88
A1906: 6 | B1906: 32602 | C1906: 2 | D1906: 2120000 | E1906: 2 | F1906: =_xlfn.CONCAT(A1906,B1906,D1906) -> 6326022120000 | H1906: 0 | I1906: 0 | J1906: 0 | K1906: 280.24 | L1906: 280.24 | M1906: 280.24 | N1906: 0 | O1906: -280.24 | P1906: =(L1906*100%)/H1906 -> #DIV/0! | Q1906: =(L1906*100%)/J1906 -> #DIV/0! | R1906: =L1906-H1906 -> 280.24 | S1906: =L1906-J1906 -> 280.24
F1907: =_xlfn.CONCAT(A1907,B1907,D1907) | H1907: =SUM(H2:H1906) -> 21044246 | I1907: =SUM(I2:I1906) -> 3826999.9 | J1907: =SUM(J2:J1906) -> 24871246 | K1907: =SUM(K2:K1906) -> 22033973 | L1907: =SUM(L2:L1906) -> 19817271 | M1907: =SUM(M2:M1906) -> 19793879 | N1907: =SUM(N2:N1906) -> 23391.99 | O1907: =SUM(O2:O1906) -> 5053974.8 | P1907: =(L1907*100%)/H1907 -> 0.94169547 | Q1907: =(L1907*100%)/J1907 -> 0.79679447
F1908: =_xlfn.CONCAT(A1908,B1908,D1908) | L1908: =+K1907-L1907 -> 2216702.2
K1909: =SUBTOTAL(9,K16:K1906) -> 3086422.2

Sheet LIQ DESPESES 2023
A1: Org. | B1: Prog. | C1: Capitol | D1: Econ. | E1: Sp. | F1: CONCAT | G1: Descripció | H1: Inicials | I1: Modificacions | J1: Definitius | K1: Despeses compromeses | L1: Obligacions reconegudes netes | M1: Pagaments | N1: Obligacions pendents de pagament | O1: Romanents de crèdit
A2: 1 | B2: 13200 | C2: 1 | D2: 1200301 | E2: 1 | F2: =_xlfn.CONCAT(A2,B2,D2) -> 1132001200301 | G2: Sous Grup C1 | H2: 11422.79 | I2: 0 | J2: 11422.79 | K2: 11538.76 | L2: 11538.76 | M2: 11538.76 | N2: 0 | O2: -115.97 | P2: =INDEX(Full1!J:J,MATCH(F2,Full1!D:D,0)) -> 11538.76 | Q2: =+L2-P2 -> 0
A3: 1 | B3: 13200 | C3: 1 | D3: 1200401 | E3: 1 | F3: =_xlfn.CONCAT(A3,B3,D3) -> 1132001200401 | G3: Sous Grup C2 | H3: 203524.92 | I3: -26474.91 | J3: 177050.01 | K3: 182095.83 | L3: 182095.83 | M3: 182095.83 | N3: 0 | O3: -5045.82 | P3: =INDEX(Full1!J:J,MATCH(F3,Full1!D:D,0)) -> 182095.83 | Q3: =+L3-P3 -> 0
A4: 1 | B4: 13200 | C4: 1 | D4: 1200601 | E4: 1 | F4: =_xlfn.CONCAT(A4,B4,D4) -> 1132001200601 | G4: Triennis funcionaris | H4: 22174.92 | I4: 0 | J4: 22174.92 | K4: 20660.85 | L4: 20660.85 | M4: 20660.85 | N4: 0 | O4: 1514.07 | P4: =INDEX(Full1!J:J,MATCH(F4,Full1!D:D,0)) -> 20660.85 | Q4: =+L4-P4 -> 0
A5: 1 | B5: 13200 | C5: 1 | D5: 1210001 | E5: 1 | F5: =_xlfn.CONCAT(A5,B5,D5) -> 1132001210001 | G5: Complement Destí Personal Funcionari | H5: 116146.86 | I5: 0 | J5: 116146.86 | K5: 104460.29 | L5: 104460.29 | M5: 104460.29 | N5: 0 | O5: 11686.57 | P5: =INDEX(Full1!J:J,MATCH(F5,Full1!D:D,0)) -> 104460.29 | Q5: =+L5-P5 -> 0
A6: 1 | B6: 13200 | C6: 1 | D6: 1210101 | E6: 1 | F6: =_xlfn.CONCAT(A6,B6,D6) -> 1132001210101 | G6: Complement Específic Personal Funcionari | H6: 329103.58 | I6: -5496 | J6: 323607.58 | K6: 298504.24 | L6: 298504.24 | M6: 298504.24 | N6: 0 | O6: 25103.34 | P6: =INDEX(Full1!J:J,MATCH(F6,Full1!D:D,0)) -> 298504.24 | Q6: =+L6-P6 -> 0
A7: 1 | B7: 13200 | C7: 1 | D7: 1300001 | E7: 1 | F7: =_xlfn.CONCAT(A7,B7,D7) -> 1132001300001 | G7: Retribucions Bàsiques Personal Laboral Fix | H7: 35375.64 | I7: 0 | J7: 35375.64 | K7: 40755.67 | L7: 40755.67 | M7: 40755.67 | N7: 0 | O7: -5380.03 | P7: =INDEX(Full1!J:J,MATCH(F7,Full1!D:D,0)) -> 40755.67 | Q7: =+L7-P7 -> 0
A8: 1 | B8: 13200 | C8: 1 | D8: 1300002 | E8: 1 | F8: =_xlfn.CONCAT(A8,B8,D8) -> 1132001300002 | G8: Triennis Personal Laboral Fix | H8: 9018.55 | I8: 0 | J8: 9018.55 | K8: 7457.83 | L8: 7457.83 | M8: 7457.83 | N8: 0 | O8: 1560.72 | P8: =INDEX(Full1!J:J,MATCH(F8,Full1!D:D,0)) -> 7457.83 | Q8: =+L8-P8 -> 0
A9: 1 | B9: 13200 | C9: 1 | D9: 1300101 | E9: 1 | F9: =_xlfn.CONCAT(A9,B9,D9) -> 1132001300101 | G9: Hores Extres Personal Laboral Fix | H9: 2900 | I9: 0 | J9: 2900 | K9: 1467.39 | L9: 1467.39 | M9: 1467.39 | N9: 0 | O9: 1432.61 | P9: =INDEX(Full1!J:J,MATCH(F9,Full1!D:D,0)) -> 1467.39 | Q9: =+L9-P9 -> 0
A10: 1 | B10: 13200 | C10: 1 | D10: 1300201 | E10: 1 | F10: =_xlfn.CONCAT(A10,B10,D10) -> 1132001300201 | G10: Complement Destí Personal Laboral Fix | H10: 18408.93 | I10: 0 | J10: 18408.93 | K10: 23830.74 | L10: 23830.74 | M10: 23830.74 | N10: 0 | O10: -5421.81 | P10: =INDEX(Full1!J:J,MATCH(F10,Full1!D:D,0)) -> 23830.74 | Q10: =+L10-P10 -> 0
A11: 1 | B11: 13200 | C11: 1 | D11: 1300202 | E11: 1 | F11: =_xlfn.CONCAT(A11,B11,D11) -> 1132001300202 | G11: Complement Específic Personal Laboral Fix | H11: 21722.25 | I11: 0 | J11: 21722.25 | K11: 28009.95 | L11: 28009.95 | M11: 28009.95 | N11: 0 | O11: -6287.7 | P11: =INDEX(Full1!J:J,MATCH(F11,Full1!D:D,0)) -> 28009.95 | Q11: =+L11-P11 -> 0
A12: 1 | B12: 13200 | C12: 1 | D12: 1310001 | E12: 1 | F12: =_xlfn.CONCAT(A12,B12,D12) -> 1132001310001 | G12: Retribucions Bàsiques Personal Laboral Temp | H12: 19252.89 | I12: 0 | J12: 19252.89 | K12: 9780.54 | L12: 9780.54 | M12: 9780.54 | N12: 0 | O12: 9472.35 | P12: =INDEX(Full1!J:J,MATCH(F12,Full1!D:D,0)) -> 9780.54 | Q12: =+L12-P12 -> 0
A13: 1 | B13: 13200 | C13: 1 | D13: 1310002 | E13: 1 | F13: =_xlfn.CONCAT(A13,B13,D13) -> 1132001310002 | G13: Triennis laboral temporal | H13: 5112.15 | I13: 0 | J13: 5112.15 | K13: 0 | L13: 0 | M13: 0 | N13: 0 | O13: 5112.15 | P13: =INDEX(Full1!J:J,MATCH(F13,Full1!D:D,0)) -> 0 | Q13: =+L13-P13 -> 0
... A1347: 4 | B1347: 49100 | C1347: 2 | D1347: 2210301 | E1347: 2 | F1347: =_xlfn.CONCAT(A1347,B1347,D1347) -> 4491002210301 | G1347: Combustible i carburants | H1347: 1400 | I1347: 950 | J1347: 2350 | K1347: 862.13 | L1347: 262.13 | M1347: 262.13 | N1347: 0 | O1347: 2087.87 | P1347: =INDEX(Full1!J:J,MATCH(F1347,Full1!D:D,0)) -> 262.13 | Q1347: =+L1347-P1347 -> 0
A1348: 4 | B1348: 49100 | C1348: 2 | D1348: 2210501 | E1348: 2 | F1348: =_xlfn.CONCAT(A1348,B1348,D1348) -> 4491002210501 | H1348: 0 | I1348: 0 | J1348: 0 | K1348: 22.88 | L1348: 22.88 | M1348: 22.88 | N1348: 0 | O1348: -22.88 | P1348: =INDEX(Full1!J:J,MATCH(F1348,Full1!D:D,0)) -> 22.88 | Q1348: =+L1348-P1348 -> 0
A1349: 4 | B1349: 92000 | C1349: 2 | D1349: 2120000 | E1349: 2 | F1349: =_xlfn.CONCAT(A1349,B1349,D1349) -> 4920002120000 | G1349: Manteniment Edificis i Construccions | H1349: 10000 | I1349: 0 | J1349: 10000 | K1349: 2485.47 | L1349: 2485.47 | M1349: 2485.47 | N1349: 0 | O1349: 7514.53 | P1349: =INDEX(Full1!J:J,MATCH(F1349,Full1!D:D,0)) -> 2485.47 | Q1349: =+L1349-P1349 -> 0
A1350: 4 | B1350: 92000 | C1350: 2 | D1350: 2130001 | E1350: 2 | F1350: =_xlfn.CONCAT(A1350,B1350,D1350) -> 4920002130001 | G1350: Manteniment maquinària, instal i utillatge | H1350: 5000 | I1350: 77.93 | J1350: 5077.93 | K1350: 6843.66 | L1350: 3943.99 | M1350: 3943.99 | N1350: 0 | O1350: 1133.94 | P1350: =INDEX(Full1!J:J,MATCH(F1350,Full1!D:D,0)) -> 3943.99 | Q1350: =+L1350-P1350 -> 0
A1351: 4 | B1351: 92000 | C1351: 2 | D1351: 2210001 | E1351: 2 | F1351: =_xlfn.CONCAT(A1351,B1351,D1351) -> 4920002210001 | G1351: Subministrament Energia Elèctrica | H1351: 18000 | I1351: 0 | J1351: 18000 | K1351: 19906 | L1351: 14387.74 | M1351: 14387.74 | N1351: 0 | O1351: 3612.26 | P1351: =INDEX(Full1!J:J,MATCH(F1351,Full1!D:D,0)) -> 14387.74 | Q1351: =+L1351-P1351 -> 0
A1352: 4 | B1352: 92000 | C1352: 2 | D1352: 2210101 | E1352: 2 | F1352: =_xlfn.CONCAT(A1352,B1352,D1352) -> 4920002210101 | G1352: Subministrament aigua | H1352: 500 | I1352: 0 | J1352: 500 | K1352: 733.63 | L1352: 733.63 | M1352: 733.63 | N1352: 0 | O1352: -233.63 | P1352: =INDEX(Full1!J:J,MATCH(F1352,Full1!D:D,0)) -> 733.63 | Q1352: =+L1352-P1352 -> 0
A1353: 4 | B1353: 92000 | C1353: 2 | D1353: 2210201 | E1353: 2 | F1353: =_xlfn.CONCAT(A1353,B1353,D1353) -> 4920002210201 | G1353: Subministrament Gas | H1353: 13500 | I1353: 8768.06 | J1353: 22268.06 | K1353: 26268.06 | L1353: 3341.5 | M1353: 3341.5 | N1353: 0 | O1353: 18926.56 | P1353: =INDEX(Full1!J:J,MATCH(F1353,Full1!D:D,0)) -> 3341.5 | Q1353: =+L1353-P1353 -> 0
A1354: 4 | B1354: 92001 | C1354: 2 | D1354: 2020001 | E1354: 2 | F1354: =_xlfn.CONCAT(A1354,B1354,D1354) -> 4920012020001 | G1354: Arrendament Edificis | H1354: 13710 | I1354: 0 | J1354: 13710 | K1354: 12240.36 | L1354: 12240.36 | M1354: 12240.36 | N1354: 0 | O1354: 1469.64 | P1354: =INDEX(Full1!J:J,MATCH(F1354,Full1!D:D,0)) -> 12240.36 | Q1354: =+L1354-P1354 -> 0
A1355: 4 | B1355: 92001 | C1355: 2 | D1355: 2120000 | E1355: 2 | F1355: =_xlfn.CONCAT(A1355,B1355,D1355) -> 4920012120000 | G1355: Manteniment Edificis i Construccions | H1355: 500 | I1355: 0 | J1355: 500 | K1355: 45.28 | L1355: 45.28 | M1355: 45.28 | N1355: 0 | O1355: 454.72 | P1355: =INDEX(Full1!J:J,MATCH(F1355,Full1!D:D,0)) -> 45.28 | Q1355: =+L1355-P1355 -> 0
A1356: 4 | B1356: 92001 | C1356: 2 | D1356: 2130001 | E1356: 2 | F1356: =_xlfn.CONCAT(A1356,B1356,D1356) -> 4920012130001 | G1356: Manteniment maquinària, instal i utillatge | H1356: 500 | I1356: 0 | J1356: 500 | K1356: 13.18 | L1356: 13.18 | M1356: 13.18 | N1356: 0 | O1356: 486.82 | P1356: =INDEX(Full1!J:J,MATCH(F1356,Full1!D:D,0)) -> 13.18 | Q1356: =+L1356-P1356 -> 0
A1357: 4 | B1357: 92001 | C1357: 2 | D1357: 2150001 | E1357: 2 | F1357: =_xlfn.CONCAT(A1357,B1357,D1357) -> 4920012150001 | G1357: Manteniment mobiliari | H1357: 0 | I1357: 0 | J1357: 0 | K1357: 109.44 | L1357: 109.44 | M1357: 109.44 | N1357: 0 | O1357: -109.44 | P1357: =INDEX(Full1!J:J,MATCH(F1357,Full1!D:D,0)) -> 109.44 | Q1357: =+L1357-P1357 -> 0
A1358: 4 | B1358: 92001 | C1358: 2 | D1358: 2210001 | E1358: 2 | F1358: =_xlfn.CONCAT(A1358,B1358,D1358) -> 4920012210001 | G1358: Subministrament Energia Elèctrica | H1358: 2000 | I1358: 1068.25 | J1358: 3068.25 | K1358: 3413.03 | L1358: 2527.88 | M1358: 2527.88 | N1358: 0 | O1358: 540.37 | P1358: =INDEX(Full1!J:J,MATCH(F1358,Full1!D:D,0)) -> 2527.88 | Q1358: =+L1358-P1358 -> 0
A1359: 4 | B1359: 92001 | C1359: 2 | D1359: 2210101 | E1359: 2 | F1359: =_xlfn.CONCAT(A1359,B1359,D1359) -> 4920012210101 | G1359: Subministrament aigua | H1359: 100 | I1359: 0 | J1359: 100 | K1359: 62.83 | L1359: 62.83 | M1359: 62.83 | N1359: 0 | O1359: 37.17 | P1359: =INDEX(Full1!J:J,MATCH(F1359,Full1!D:D,0)) -> 62.83 | Q1359: =+L1359-P1359 -> 0
A1360: 4 | B1360: 92002 | C1360: 2 | D1360: 2210401 | E1360: 2 | F1360: =_xlfn.CONCAT(A1360,B1360,D1360) -> 4920022210401 | G1360: Vestuari del Personal | H1360: 5150 | I1360: 0 | J1360: 5150 | K1360: 1598.55 | L1360: 1598.55 | M1360: 1598.55 | N1360: 0 | O1360: 3551.45 | P1360: =INDEX(Full1!J:J,MATCH(F1360,Full1!D:D,0)) -> 1598.55 | Q1360: =+L1360-P1360 -> 0
... A1645: 6 | B1645: 32600 | C1645: 6 | D1645: 6350000 | E1645: 6 | F1645: =_xlfn.CONCAT(A1645,B1645,D1645) -> 6326006350000 | G1645: Mobiliari | H1645: 0 | I1645: 1419.9 | J1645: 1419.9 | K1645: 1419.9 | L1645: 1419.69 | M1645: 1419.69 | N1645: 0 | O1645: 0.21 | P1645: =INDEX(Full1!J:J,MATCH(F1645,Full1!D:D,0)) -> 1419.69 | Q1645: =+L1645-P1645 -> 0
A1646: 6 | B1646: 32602 | C1646: 2 | D1646: 2120000 | E1646: 2 | F1646: =_xlfn.CONCAT(A1646,B1646,D1646) -> 6326022120000 | H1646: 0 | I1646: 0 | J1646: 0 | K1646: 280.24 | L1646: 280.24 | M1646: 280.24 | N1646: 0 | O1646: -280.24 | P1646: =INDEX(Full1!J:J,MATCH(F1646,Full1!D:D,0)) -> 280.24 | Q1646: =+L1646-P1646 -> 0
A1647: 6 | B1647: 32602 | C1647: 2 | D1647: 2269900 | E1647: 2 | F1647: =_xlfn.CONCAT(A1647,B1647,D1647) -> 6326022269900 | G1647: Altres despeses diverses | H1647: 5000 | I1647: 10400 | J1647: 15400 | K1647: 14847 | L1647: 14847 | M1647: 14847 | N1647: 0 | O1647: 553 | P1647: =INDEX(Full1!J:J,MATCH(F1647,Full1!D:D,0)) -> 14847 | Q1647: =+L1647-P1647 -> 0
A1648: 6 | B1648: 32602 | C1648: 2 | D1648: 2269901 | E1648: 2 | F1648: =_xlfn.CONCAT(A1648,B1648,D1648) -> 6326022269901 | G1648: Taller diversificat - BrassBand | H1648: 2500 | I1648: 0 | J1648: 2500 | K1648: 605 | L1648: 605 | M1648: 605 | N1648: 0 | O1648: 1895 | P1648: =INDEX(Full1!J:J,MATCH(F1648,Full1!D:D,0)) -> 605 | Q1648: =+L1648-P1648 -> 0
A1649: 6 | B1649: 32602 | C1649: 2 | D1649: 2269902 | E1649: 2 | F1649: =_xlfn.CONCAT(A1649,B1649,D1649) -> 6326022269902 | G1649: Fira/Mostra educació/ocupació | H1649: 2500 | I1649: 0 | J1649: 2500 | K1649: 1916.92 | L1649: 1916.92 | M1649: 1916.92 | N1649: 0 | O1649: 583.08 | P1649: =INDEX(Full1!J:J,MATCH(F1649,Full1!D:D,0)) -> 1916.92 | Q1649: =+L1649-P1649 -> 0
A1650: 6 | B1650: 32602 | C1650: 2 | D1650: 2269903 | E1650: 2 | F1650: =_xlfn.CONCAT(A1650,B1650,D1650) -> 6326022269903 | G1650: Taller diversificat de suport i reforç educatiu | H1650: 41700 | I1650: 0 | J1650: 41700 | K1650: 0 | L1650: 0 | M1650: 0 | N1650: 0 | O1650: 41700 | P1650: =INDEX(Full1!J:J,MATCH(F1650,Full1!D:D,0)) -> 0 | Q1650: =+L1650-P1650 -> 0
A1651: 6 | B1651: 32602 | C1651: 2 | D1651: 2269916 | E1651: 2 | F1651: =_xlfn.CONCAT(A1651,B1651,D1651) -> 6326022269916 | G1651: Activitats educatives | H1651: 1500 | I1651: 0 | J1651: 1500 | K1651: 1105 | L1651: 1105 | M1651: 1105 | N1651: 0 | O1651: 395 | P1651: =INDEX(Full1!J:J,MATCH(F1651,Full1!D:D,0)) -> 1105 | Q1651: =+L1651-P1651 -> 0
A1652: 6 | B1652: 32602 | C1652: 2 | D1652: 2279900 | E1652: 2 | F1652: =_xlfn.CONCAT(A1652,B1652,D1652) -> 6326022279900 | G1652: Altres treballs realitzats per altres empreses i professionals | H1652: 1500 | I1652: 0 | J1652: 1500 | K1652: 1638.22 | L1652: 1638.22 | M1652: 1638.22 | N1652: 0 | O1652: -138.22 | P1652: =INDEX(Full1!J:J,MATCH(F1652,Full1!D:D,0)) -> 1638.22 | Q1652: =+L1652-P1652 -> 0
A1653: 6 | B1653: 32602 | C1653: 2 | D1653: 2279907 | E1653: 2 | F1653: =_xlfn.CONCAT(A1653,B1653,D1653) -> 6326022279907 | G1653: Contractació a tercers per Esplais/Casals d'estiu | H1653: 12000 | I1653: 0 | J1653: 12000 | K1653: 0 | L1653: 0 | M1653: 0 | N1653: 0 | O1653: 12000 | P1653: =INDEX(Full1!J:J,MATCH(F1653,Full1!D:D,0)) -> 0 | Q1653: =+L1653-P1653 -> 0
A1654: 6 | B1654: 32602 | C1654: 2 | D1654: 2279947 | E1654: 2 | F1654: =_xlfn.CONCAT(A1654,B1654,D1654) -> 6326022279947 | G1654: Petits arqueòlegs | H1654: 2000 | I1654: 0 | J1654: 2000 | K1654: 1320.23 | L1654: 1320.23 | M1654: 1320.23 | N1654: 0 | O1654: 679.77 | P1654: =INDEX(Full1!J:J,MATCH(F1654,Full1!D:D,0)) -> 1320.23 | Q1654: =+L1654-P1654 -> 0
A1655: 6 | B1655: 32602 | C1655: 4 | D1655: 4800070 | E1655: 4 | F1655: =_xlfn.CONCAT(A1655,B1655,D1655) -> 6326024800070 | G1655: Subv. Beques Material Escolar | H1655: 9000 | I1655: -9000 | J1655: 0 | K1655: 0 | L1655: 0 | M1655: 0 | N1655: 0 | O1655: 0 | P1655: =INDEX(Full1!J:J,MATCH(F1655,Full1!D:D,0)) -> 0 | Q1655: =+L1655-P1655 -> 0
A1656: 6 | B1656: 32602 | C1656: 4 | D1656: 4800115 | E1656: 4 | F1656: =_xlfn.CONCAT(A1656,B1656,D1656) -> 6326024800115 | G1656: Subv. Escola Pia. Llibres, material escolar i sortides curriculars. | H1656: 500 | I1656: 3440.26 | J1656: 3940.26 | K1656: 3940.26 | L1656: 2340.26 | M1656: 2340.26 | N1656: 0 | O1656: 1600 | P1656: =INDEX(Full1!J:J,MATCH(F1656,Full1!D:D,0)) -> 2340.26 | Q1656: =+L1656-P1656 -> 0
A1657: 6 | B1657: 32602 | C1657: 4 | D1657: 4800121 | E1657: 4 | F1657: =_xlfn.CONCAT(A1657,B1657,D1657) -> 6326024800121 | G1657: Subv. Escola Maria-Mercè Marçal. Llibres, material escolar i sortides curriculars. | H1657: 500 | I1657: -500 | J1657: 0 | K1657: 0 | L1657: 0 | M1657: 0 | N1657: 0 | O1657: 0 | P1657: =INDEX(Full1!J:J,MATCH(F1657,Full1!D:D,0)) -> 0 | Q1657: =+L1657-P1657 -> 0
...

Sheet Full1
A1: Org. | B1: Prog. | C1: Econ. | D1: cibca | E1: Descripció | F1: Inicials | G1: Modificacions | H1: Definitius | I1: Despeses compromeses | J1: Obligacions reconegudes netes | K1: Pagaments | L1: Obligacions pendents de pagament | M1: Romanents de crèdit
A2: 1 | B2: 13200 | C2: 1200301 | D2: =_xlfn.CONCAT(A2,B2,C2) -> 1132001200301 | E2: Sous Grup C1 | F2: 11422.79 | G2: 0 | H2: 11422.79 | I2: 11538.76 | J2: 11538.76 | K2: 11538.76 | L2: 0 | M2: -115.97
A3: 1 | B3: 13200 | C3: 1200401 | D3: =_xlfn.CONCAT(A3,B3,C3) -> 1132001200401 | E3: Sous Grup C2 | F3: 203524.92 | G3: -26474.91 | H3: 177050.01 | I3: 182095.83 | J3: 182095.83 | K3: 182095.83 | L3: 0 | M3: -5045.82
A4: 1 | B4: 13200 | C4: 1200601 | D4: =_xlfn.CONCAT(A4,B4,C4) -> 1132001200601 | E4: Triennis funcionaris | F4: 22174.92 | G4: 0 | H4: 22174.92 | I4: 20660.85 | J4: 20660.85 | K4: 20660.85 | L4: 0 | M4: 1514.07
A5: 1 | B5: 13200 | C5: 1210001 | D5: =_xlfn.CONCAT(A5,B5,C5) -> 1132001210001 | E5: Complement Destí Personal Funcionari | F5: 116146.86 | G5: 0 | H5: 116146.86 | I5: 104460.29 | J5: 104460.29 | K5: 104460.29 | L5: 0 | M5: 11686.57
A6: 1 | B6: 13200 | C6: 1210101 | D6: =_xlfn.CONCAT(A6,B6,C6) -> 1132001210101 | E6: Complement Específic Personal Funcionari | F6: 329103.58 | G6: -5496 | H6: 323607.58 | I6: 298504.24 | J6: 298504.24 | K6: 298504.24 | L6: 0 | M6: 25103.34
A7: 1 | B7: 13200 | C7: 1300001 | D7: =_xlfn.CONCAT(A7,B7,C7) -> 1132001300001 | E7: Retribucions Bàsiques Personal Laboral Fix | F7: 35375.64 | G7: 0 | H7: 35375.64 | I7: 40755.67 | J7: 40755.67 | K7: 40755.67 | L7: 0 | M7: -5380.03
A8: 1 | B8: 13200 | C8: 1300002 | D8: =_xlfn.CONCAT(A8,B8,C8) -> 1132001300002 | E8: Triennis Personal Laboral Fix | F8: 9018.55 | G8: 0 | H8: 9018.55 | I8: 7457.83 | J8: 7457.83 | K8: 7457.83 | L8: 0 | M8: 1560.72
A9: 1 | B9: 13200 | C9: 1300101 | D9: =_xlfn.CONCAT(A9,B9,C9) -> 1132001300101 | E9: Hores Extres Personal Laboral Fix | F9: 2900 | G9: 0 | H9: 2900 | I9: 1467.39 | J9: 1467.39 | K9: 1467.39 | L9: 0 | M9: 1432.61
A10: 1 | B10: 13200 | C10: 1300201 | D10: =_xlfn.CONCAT(A10,B10,C10) -> 1132001300201 | E10: Complement Destí Personal Laboral Fix | F10: 18408.93 | G10: 0 | H10: 18408.93 | I10: 23830.74 | J10: 23830.74 | K10: 23830.74 | L10: 0 | M10: -5421.81
A11: 1 | B11: 13200 | C11: 1300202 | D11: =_xlfn.CONCAT(A11,B11,C11) -> 1132001300202 | E11: Complement Específic Personal Laboral Fix | F11: 21722.25 | G11: 0 | H11: 21722.25 | I11: 28009.95 | J11: 28009.95 | K11: 28009.95 | L11: 0 | M11: -6287.7
A12: 1 | B12: 13200 | C12: 1310001 | D12: =_xlfn.CONCAT(A12,B12,C12) -> 1132001310001 | E12: Retribucions Bàsiques Personal Laboral Temp | F12: 19252.89 | G12: 0 | H12: 19252.89 | I12: 9780.54 | J12: 9780.54 | K12: 9780.54 | L12: 0 | M12: 9472.35
A13: 1 | B13: 13200 | C13: 1310002 | D13: =_xlfn.CONCAT(A13,B13,C13) -> 1132001310002 | E13: Triennis laboral temporal | F13: 5112.15 | G13: 0 | H13: 5112.15 | I13: 0 | J13: 0 | K13: 0 | L13: 0 | M13: 5112.15
... A1347: 4 | B1347: 49100 | C1347: 2210301 | D1347: =_xlfn.CONCAT(A1347,B1347,C1347) -> 4491002210301 | E1347: Combustible i carburants | F1347: 1400 | G1347: 950 | H1347: 2350 | I1347: 862.13 | J1347: 262.13 | K1347: 262.13 | L1347: 0 | M1347: 2087.87
A1348: 4 | B1348: 49100 | C1348: 2210501 | D1348: =_xlfn.CONCAT(A1348,B1348,C1348) -> 4491002210501 | F1348: 0 | G1348: 0 | H1348: 0 | I1348: 22.88 | J1348: 22.88 | K1348: 22.88 | L1348: 0 | M1348: -22.88
A1349: 4 | B1349: 92000 | C1349: 2120000 | D1349: =_xlfn.CONCAT(A1349,B1349,C1349) -> 4920002120000 | E1349: Manteniment Edificis i Construccions | F1349: 10000 | G1349: 0 | H1349: 10000 | I1349: 2485.47 | J1349: 2485.47 | K1349: 2485.47 | L1349: 0 | M1349: 7514.53
A1350: 4 | B1350: 92000 | C1350: 2130001 | D1350: =_xlfn.CONCAT(A1350,B1350,C1350) -> 4920002130001 | E1350: Manteniment maquinària, instal i utillatge | F1350: 5000 | G1350: 77.93 | H1350: 5077.93 | I1350: 6843.66 | J1350: 3943.99 | K1350: 3943.99 | L1350: 0 | M1350: 1133.94
A1351: 4 | B1351: 92000 | C1351: 2210001 | D1351: =_xlfn.CONCAT(A1351,B1351,C1351) -> 4920002210001 | E1351: Subministrament Energia Elèctrica | F1351: 18000 | G1351: 0 | H1351: 18000 | I1351: 19906 | J1351: 14387.74 | K1351: 14387.74 | L1351: 0 | M1351: 3612.26
A1352: 4 | B1352: 92000 | C1352: 2210101 | D1352: =_xlfn.CONCAT(A1352,B1352,C1352) -> 4920002210101 | E1352: Subministrament aigua | F1352: 500 | G1352: 0 | H1352: 500 | I1352: 733.63 | J1352: 733.63 | K1352: 733.63 | L1352: 0 | M1352: -233.63
A1353: 4 | B1353: 92000 | C1353: 2210201 | D1353: =_xlfn.CONCAT(A1353,B1353,C1353) -> 4920002210201 | E1353: Subministrament Gas | F1353: 13500 | G1353: 8768.06 | H1353: 22268.06 | I1353: 26268.06 | J1353: 3341.5 | K1353: 3341.5 | L1353: 0 | M1353: 18926.56
A1354: 4 | B1354: 92001 | C1354: 2020001 | D1354: =_xlfn.CONCAT(A1354,B1354,C1354) -> 4920012020001 | E1354: Arrendament Edificis | F1354: 13710 | G1354: 0 | H1354: 13710 | I1354: 12240.36 | J1354: 12240.36 | K1354: 12240.36 | L1354: 0 | M1354: 1469.64
A1355: 4 | B1355: 92001 | C1355: 2120000 | D1355: =_xlfn.CONCAT(A1355,B1355,C1355) -> 4920012120000 | E1355: Manteniment Edificis i Construccions | F1355: 500 | G1355: 0 | H1355: 500 | I1355: 45.28 | J1355: 45.28 | K1355: 45.28 | L1355: 0 | M1355: 454.72
A1356: 4 | B1356: 92001 | C1356: 2130001 | D1356: =_xlfn.CONCAT(A1356,B1356,C1356) -> 4920012130001 | E1356: Manteniment maquinària, instal i utillatge | F1356: 500 | G1356: 0 | H1356: 500 | I1356: 13.18 | J1356: 13.18 | K1356: 13.18 | L1356: 0 | M1356: 486.82
A1357: 4 | B1357: 92001 | C1357: 2150001 | D1357: =_xlfn.CONCAT(A1357,B1357,C1357) -> 4920012150001 | E1357: Manteniment mobiliari | F1357: 0 | G1357: 0 | H1357: 0 | I1357: 109.44 | J1357: 109.44 | K1357: 109.44 | L1357: 0 | M1357: -109.44
A1358: 4 | B1358: 92001 | C1358: 2210001 | D1358: =_xlfn.CONCAT(A1358,B1358,C1358) -> 4920012210001 | E1358: Subministrament Energia Elèctrica | F1358: 2000 | G1358: 1068.25 | H1358: 3068.25 | I1358: 3413.03 | J1358: 2527.88 | K1358: 2527.88 | L1358: 0 | M1358: 540.37
A1359: 4 | B1359: 92001 | C1359: 2210101 | D1359: =_xlfn.CONCAT(A1359,B1359,C1359) -> 4920012210101 | E1359: Subministrament aigua | F1359: 100 | G1359: 0 | H1359: 100 | I1359: 62.83 | J1359: 62.83 | K1359: 62.83 | L1359: 0 | M1359: 37.17
A1360: 4 | B1360: 92002 | C1360: 2210401 | D1360: =_xlfn.CONCAT(A1360,B1360,C1360) -> 4920022210401 | E1360: Vestuari del Personal | F1360: 5150 | G1360: 0 | H1360: 5150 | I1360: 1598.55 | J1360: 1598.55 | K1360: 1598.55 | L1360: 0 | M1360: 3551.45
... A1645: 6 | B1645: 32600 | C1645: 6350000 | D1645: =_xlfn.CONCAT(A1645,B1645,C1645) -> 6326006350000 | E1645: Mobiliari | F1645: 0 | G1645: 1419.9 | H1645: 1419.9 | I1645: 1419.9 | J1645: 1419.69 | K1645: 1419.69 | L1645: 0 | M1645: 0.21
A1646: 6 | B1646: 32602 | C1646: 2120000 | D1646: =_xlfn.CONCAT(A1646,B1646,C1646) -> 6326022120000 | F1646: 0 | G1646: 0 | H1646: 0 | I1646: 280.24 | J1646: 280.24 | K1646: 280.24 | L1646: 0 | M1646: -280.24
A1647: 6 | B1647: 32602 | C1647: 2269900 | D1647: =_xlfn.CONCAT(A1647,B1647,C1647) -> 6326022269900 | E1647: Altres despeses diverses | F1647: 5000 | G1647: 10400 | H1647: 15400 | I1647: 14847 | J1647: 14847 | K1647: 14847 | L1647: 0 | M1647: 553
A1648: 6 | B1648: 32602 | C1648: 2269901 | D1648: =_xlfn.CONCAT(A1648,B1648,C1648) -> 6326022269901 | E1648: Taller diversificat - BrassBand | F1648: 2500 | G1648: 0 | H1648: 2500 | I1648: 605 | J1648: 605 | K1648: 605 | L1648: 0 | M1648: 1895
A1649: 6 | B1649: 32602 | C1649: 2269902 | D1649: =_xlfn.CONCAT(A1649,B1649,C1649) -> 6326022269902 | E1649: Fira/Mostra educació/ocupació | F1649: 2500 | G1649: 0 | H1649: 2500 | I1649: 1916.92 | J1649: 1916.92 | K1649: 1916.92 | L1649: 0 | M1649: 583.08
A1650: 6 | B1650: 32602 | C1650: 2269903 | D1650: =_xlfn.CONCAT(A1650,B1650,C1650) -> 6326022269903 | E1650: Taller diversificat de suport i reforç educatiu | F1650: 41700 | G1650: 0 | H1650: 41700 | I1650: 0 | J1650: 0 | K1650: 0 | L1650: 0 | M1650: 41700
A1651: 6 | B1651: 32602 | C1651: 2269916 | D1651: =_xlfn.CONCAT(A1651,B1651,C1651) -> 6326022269916 | E1651: Activitats educatives | F1651: 1500 | G1651: 0 | H1651: 1500 | I1651: 1105 | J1651: 1105 | K1651: 1105 | L1651: 0 | M1651: 395
A1652: 6 | B1652: 32602 | C1652: 2279900 | D1652: =_xlfn.CONCAT(A1652,B1652,C1652) -> 6326022279900 | E1652: Altres treballs realitzats per altres empreses i professionals | F1652: 1500 | G1652: 0 | H1652: 1500 | I1652: 1638.22 | J1652: 1638.22 | K1652: 1638.22 | L1652: 0 | M1652: -138.22
A1653: 6 | B1653: 32602 | C1653: 2279907 | D1653: =_xlfn.CONCAT(A1653,B1653,C1653) -> 6326022279907 | E1653: Contractació a tercers per Esplais/Casals d'estiu | F1653: 12000 | G1653: 0 | H1653: 12000 | I1653: 0 | J1653: 0 | K1653: 0 | L1653: 0 | M1653: 12000
A1654: 6 | B1654: 32602 | C1654: 2279947 | D1654: =_xlfn.CONCAT(A1654,B1654,C1654) -> 6326022279947 | E1654: Petits arqueòlegs | F1654: 2000 | G1654: 0 | H1654: 2000 | I1654: 1320.23 | J1654: 1320.23 | K1654: 1320.23 | L1654: 0 | M1654: 679.77
A1655: 6 | B1655: 32602 | C1655: 4800070 | D1655: =_xlfn.CONCAT(A1655,B1655,C1655) -> 6326024800070 | E1655: Subv. Beques Material Escolar | F1655: 9000 | G1655: -9000 | H1655: 0 | I1655: 0 | J1655: 0 | K1655: 0 | L1655: 0 | M1655: 0
A1656: 6 | B1656: 32602 | C1656: 4800115 | D1656: =_xlfn.CONCAT(A1656,B1656,C1656) -> 6326024800115 | E1656: Subv. Escola Pia. Llibres, material escolar i sortides curriculars. | F1656: 500 | G1656: 3440.26 | H1656: 3940.26 | I1656: 3940.26 | J1656: 2340.26 | K1656: 2340.26 | L1656: 0 | M1656: 1600
A1657: 6 | B1657: 32602 | C1657: 4800121 | D1657: =_xlfn.CONCAT(A1657,B1657,C1657) -> 6326024800121 | E1657: Subv. Escola Maria-Mercè Marçal. Llibres, material escolar i sortides curriculars. | F1657: 500 | G1657: -500 | H1657: 0 | I1657: 0 | J1657: 0 | K1657: 0 | L1657: 0 | M1657: 0
...

Sheet CAPITOLS AJUNTAMENT
A3: Etiquetas de fila | B3: Suma de Inicials | C3: Suma de Modificacions | D3: Suma de Definitius | E3: Suma de Despeses compromeses | F3: Suma de Obligacions reconegudes netes | G3: Suma de Pagaments | H3: Suma de Obligacions pendents de pagament | I3: Suma de Romanents de crèdit
A4: 1 | B4: 8294415.7 | C4: 688393.82 | D4: 8982809.5 | E4: 8518954.2 | F4: 8518954.2 | G4: 8518954.2 | H4: 0 | I4: 463855.27 | J4: =GETPIVOTDATA("Suma de Obligacions reconegudes netes",$A$3,"Capitol","1")/GETPIVOTDATA("Suma de Definitius",$A$3,"Capitol","1") -> 0.94836189
A5: 2 | B5: 7151872.8 | C5: 931547.28 | D5: 8083420.1 | E5: 7625575.3 | F5: 6677041.3 | G5: 6658787.1 | H5: 18254.18 | I5: 1406378.8 | J5: =GETPIVOTDATA("Suma de Obligacions reconegudes netes",$A$3,"Capitol","2")/GETPIVOTDATA("Suma de Definitius",$A$3,"Capitol","2") -> 0.82601686
A6: 3 | B6: 157611.9 | C6: 15000 | D6: 172611.9 | E6: 130293.87 | F6: 130293.87 | G6: 130293.87 | H6: 0 | I6: 42318.03 | J6: =GETPIVOTDATA("Suma de Obligacions reconegudes netes",$A$3,"Capitol","3")/GETPIVOTDATA("Suma de Definitius",$A$3,"Capitol","3") -> 0.75483712
A7: 4 | B7: 943210 | C7: 294464.04 | D7: 1237674 | E7: 1044591.6 | F7: 902760.49 | G7: 897622.68 | H7: 5137.81 | I7: 334913.55 | J7: =GETPIVOTDATA("Suma de Obligacions reconegudes netes",$A$3,"Capitol","4")/GETPIVOTDATA("Suma de Definitius",$A$3,"Capitol","4") -> 0.72940084
A8: 5 | B8: 48400 | C8: 0 | D8: 48400 | E8: 0 | F8: 0 | G8: 0 | H8: 0 | I8: 48400
A9: 6 | B9: 2798433 | C9: 1808698.6 | D9: 4607131.6 | E9: 3086422.2 | F9: 1964699.1 | G9: 1964699.1 | H9: 0 | I9: 2642432.6 | J9: =GETPIVOTDATA("Suma de Obligacions reconegudes netes",$A$3,"Capitol","6")/GETPIVOTDATA("Suma de Definitius",$A$3,"Capitol","6") -> 0.42644735
A10: 7 | B10: 44200 | C10: 103896.14 | D10: 148096.14 | E10: 81371.16 | F10: 76757.29 | G10: 76757.29 | H10: 0 | I10: 71338.85 | J10: =GETPIVOTDATA("Suma de Obligacions reconegudes netes",$A$3,"Capitol","7")/GETPIVOTDATA("Suma de Definitius",$A$3,"Capitol","7") -> 0.51829366
A11: 9 | B11: 1606102.6 | C11: -15000 | D11: 1591102.6 | E11: 1546764.9 | F11: 1546764.9 | G11: 1546764.9 | H11: 0 | I11: 44337.66 | J11: =GETPIVOTDATA("Suma de Obligacions reconegudes netes",$A$3,"Capitol","9")/GETPIVOTDATA("Suma de Definitius",$A$3,"Capitol","9") -> 0.972134
A12: Total general | B12: 21044246 | C12: 3826999.9 | D12: 24871246 | E12: 22033973 | F12: 19817271 | G12: 19793879 | H12: 23391.99 | I12: 5053974.8 | J12: =GETPIVOTDATA("Suma de Obligacions reconegudes netes",$A$3)/GETPIVOTDATA("Suma de Definitius",$A$3) -> 0.79679447
A15: Cap | B15: C. Inicials | C15: Modif | D15: C. Def | E15: Despeses compromeses | F15: Obligacions reconegudes netes | G15: Pagaments | H15: Obligacions pendents de pagament | I15: Romanents de crèdit
A16: 1 | B16: 8294415.7 | C16: 688393.82 | D16: 8982809.5 | E16: 8518954.2 | F16: 8518954.2 | G16: 8518954.2 | H16: 0 | I16: 463855.27
A17: 2 | B17: 7151872.8 | C17: 931547.28 | D17: 8083420.1 | E17: 7625575.3 | F17: 6677041.3 | G17: 6658787.1 | H17: 18254.18 | I17: 1406378.8
A18: 3 | B18: 157611.9 | C18: 15000 | D18: 172611.9 | E18: 130293.87 | F18: 130293.87 | G18: 130293.87 | H18: 0 | I18: 42318.03
A19: 4 | B19: 943210 | C19: 294464.04 | D19: 1237674 | E19: 1044591.6 | F19: 902760.49 | G19: 897622.68 | H19: 5137.81 | I19: 334913.55
A20: 5 | B20: 48400 | C20: 0 | D20: 48400 | E20: 0 | F20: 0 | G20: 0 | H20: 0 | I20: 48400
A21: 6 | B21: 2798433 | C21: 1808698.6 | D21: 4607131.6 | E21: 3086422.2 | F21: 1964699.1 | G21: 1964699.1 | H21: 0 | I21: 2642432.6
A22: 7 | B22: 44200 | C22: 103896.14 | D22: 148096.14 | E22: 81371.16 | F22: 76757.29 | G22: 76757.29 | H22: 0 | I22: 71338.85
A23: 9 | B23: 1606102.6 | C23: -15000 | D23: 1591102.6 | E23: 1546764.9 | F23: 1546764.9 | G23: 1546764.9 | H23: 0 | I23: 44337.66
B24: 21044246 | C24: 3826999.9 | D24: 24871246 | E24: 22033973 | F24: 19817271 | G24: 19793879 | H24: 23391.99 | I24: 5053974.8

Sheet EPEL
A1: EPEL CAPITOLS
A4: INGRESSOS | B4: DRN
A5: CAPITOL 1
A6: CAPITOL 2
A7: CAPITOL 3 | B7: =276872.76 -> 276872.76
A8: CAPITOL 4 | B8: 920350
A9: CAPITOL 5
A10: CAPITOL 6
A11: CAPITOL 7
A12: CAPITOL 9
B13: =SUM(B5:B12) -> 1197222.8
A15: DESPESES | B15: ORN
A16: CAPITOL 1 | B16: 429706.15
A17: CAPITOL 2 | B17: =650235.43+165117.14 -> 815352.57
A18: CAPITOL 3 | B18: 3280.69
A19: CAPITOL 4
A20: CAPITOL 6
A21: CAPITOL 7
A22: CAPITOL 9
B23: =SUM(B16:B22) -> 1248339.4
A25: RTAT PRESSUPOSTARI | B25: =+B13-B23 -> -51116.65
A26: PIG | B26: -53630.31
A27: NOTA | B27: DESQUADRA DEL PIG PERQUÈ L'AMORTITZACIÓ NO ES UNA DESPESA PRESSUPOSTARIA
A28: amortitzacio | B28: =B26-B25 -> -2513.66

Sheet SUMTA
A1: CAPITOLS
A3: INGRESSOS | B3: DRN
A4: CAPITOL 1
A5: CAPITOL 2
A6: CAPITOL 3 | B6: 0
A7: CAPITOL 4 | B7: 0
A8: CAPITOL 5 | B8: 0
A9: CAPITOL 6
A10: CAPITOL 7
A11: CAPITOL 9
B12: =SUM(B4:B11) -> 0
A14: DESPESES | B14: ORN
A15: CAPITOL 1 | B15: 0
A16: CAPITOL 2 | B16: 7449.68
A17: CAPITOL 3 | B17: 120
A18: CAPITOL 4
A19: CAPITOL 6 | B19: 0
A20: CAPITOL 7
A21: CAPITOL 9
B22: =SUM(B15:B21) -> 7569.68

Sheet CONSOLIDAT
A1: DESPESES CONSOLIDATS
B3: AJUNTAMENT | C3: EPEL | D3: SUMTA | E3: TRANSFERENCIES INTERNES | F3: TOTAL CONSOLIDAT
A4: Capítol1 | B4: =GETPIVOTDATA("Suma de Obligacions reconegudes netes",'CAPITOLS AJUNTAMENT'!$A$3,"Capitol","1") -> 8518954.2 | C4: =EPEL!B16 -> 429706.15 | F4: =B4+C4+D4-E4 -> 8948660.4
A5: Capítol 2 | B5: =GETPIVOTDATA("Suma de Obligacions reconegudes netes",'CAPITOLS AJUNTAMENT'!$A$3,"Capitol","2") -> 6677041.3 | C5: =EPEL!B17 -> 815352.57 | D5: =SUMTA!B16 -> 7449.68 | F5: =B5+C5+D5-E5 -> 7499843.5
A6: Capítol 3 | B6: =GETPIVOTDATA("Suma de Obligacions reconegudes netes",'CAPITOLS AJUNTAMENT'!$A$3,"Capitol","3") -> 130293.87 | C6: =EPEL!B18 -> 3280.69 | D6: =SUMTA!B17 -> 120 | F6: =B6+C6+D6-E6 -> 133694.56
A7: Capítol 4 | B7: =GETPIVOTDATA("Suma de Obligacions reconegudes netes",'CAPITOLS AJUNTAMENT'!$A$3,"Capitol","4") -> 902760.49 | E7: 216000 | F7: =B7+C7+D7-E7 -> 686760.49
A8: Capítol 5 | B8: 0 | F8: =B8+C8+D8-E8 -> 0
A9: Capítol 6 | B9: =GETPIVOTDATA("Suma de Obligacions reconegudes netes",'CAPITOLS AJUNTAMENT'!$A$3,"Capitol","6") -> 1964699.1 | F9: =B9+C9+D9-E9 -> 1964699.1
A10: Capítol 7 | B10: =GETPIVOTDATA("Suma de Obligacions reconegudes netes",'CAPITOLS AJUNTAMENT'!$A$3,"Capitol","7") -> 76757.29 | F10: =B10+C10+D10-E10 -> 76757.29
A11: Capítol 8 | B11: 0 | F11: =B11+C11+D11-E11 -> 0
A12: Capítol 9 | B12: =GETPIVOTDATA("Suma de Obligacions reconegudes netes",'CAPITOLS AJUNTAMENT'!$A$3,"Capitol","9") -> 1546764.9 | F12: =B12+C12+D12-E12 -> 1546764.9
B13: =SUM(B4:B12) -> 19817271 | C13: =SUM(C4:C12) -> 1248339.4 | D13: =SUM(D4:D12) -> 7569.68 | E13: =SUM(E4:E12) -> 216000 | F13: =SUM(F4:F12) -> 20857180
