Workbook

Sheet ANALISIS DESVIACIONS
A1: Org. | B1: Capitol | C1: Econ. | D1: Descripció | E1: Previsions inicials | F1: Modificacions | G1: Previsions definitives | H1: Drets reconeguts | I1: Drets anul.lats | J1: Drets cancel.lats | K1: Drets reconeguts nets | L1: Recaptació neta | M1: Drets pendents de cobrament | N1: Excés / defecte previsió | O1: DESV. PI VS DRN | P1: DESV.DR VS DRN
A2: 0 | B2: 1 | C2: 1120001 | D2: IBI Rústica | E2: 250000 | F2: 0 | G2: 250000 | H2: 248681.29 | I2: 587.74 | J2: 0 | K2: 248093.55 | L2: 208614.59 | M2: 39478.96 | N2: -1906.45 | O2: =(K2*100%)/E2 -> 0.9923742 | P2: =(K2*100%)/G2 -> 0.9923742 | S2: =K2-G2 -> -1906.45
A3: 0 | B3: 1 | C3: 1130001 | D3: IBI Urbana | E3: 5400000 | F3: 0 | G3: 5400000 | H3: 5423437.8 | I3: 35757.05 | J3: 6411.79 | K3: 5381269 | L3: 4943571.8 | M3: 437697.21 | N3: -18731.02 | O3: =(K3*100%)/E3 -> 0.99653129 | P3: =(K3*100%)/G3 -> 0.99653129 | S3: =K3-G3 -> -18731.02
A4: 0 | B4: 1 | C4: 1140001 | D4: IBI BICES | E4: 2500 | F4: 0 | G4: 2500 | H4: 2421.92 | I4: 0 | J4: 0 | K4: 2421.92 | L4: 2172.9 | M4: 249.02 | N4: -78.08 | O4: =(K4*100%)/E4 -> 0.968768 | P4: =(K4*100%)/G4 -> 0.968768
A5: 0 | B5: 1 | C5: 1150001 | D5: Impost sobre vehicles de tracció mecànica | E5: 1230000 | F5: 0 | G5: 1230000 | H5: 1233090.6 | I5: 7278.5 | J5: 11160.61 | K5: 1214651.5 | L5: 1040651.9 | M5: 173999.61 | N5: -15348.48 | O5: =(K5*100%)/E5 -> 0.98752156 | P5: =(K5*100%)/G5 -> 0.98752156 | S5: =K5-G5 -> -15348.48
A6: 0 | B6: 1 | C6: 1160001 | D6: Impost increment terrenys naturalesa urbana | E6: 244900 | F6: 0 | G6: 244900 | H6: 406903.03 | I6: 9257.25 | J6: 0 | K6: 397645.78 | L6: 332409.46 | M6: 65236.32 | N6: 152745.78 | O6: =(K6*100%)/E6 -> 1.6237067 | P6: =(K6*100%)/G6 -> 1.6237067 | Q6: =K6-E6 -> 152745.78 | R6: plusvalua | S6: =K6-G6 -> 152745.78
A7: 0 | B7: 1 | C7: 1300001 | D7: Impost activitats econòmiques | E7: 485000 | F7: 0 | G7: 485000 | H7: 513323.84 | I7: 5107.82 | J7: 0 | K7: 508216.02 | L7: 460230.79 | M7: 47985.23 | N7: 23216.02 | O7: =(K7*100%)/E7 -> 1.0478681 | P7: =(K7*100%)/G7 -> 1.0478681 | S7: =K7-G7 -> 23216.02
A8: 0 | B8: 1 | C8: 1300002 | D8: I.A.E. Hisenda | E8: 100000 | F8: 0 | G8: 100000 | H8: 85895.07 | I8: 0 | J8: 0 | K8: 85895.07 | L8: 85895.07 | M8: 0 | N8: -14104.93 | O8: =(K8*100%)/E8 -> 0.8589507 | P8: =(K8*100%)/G8 -> 0.8589507 | S8: =K8-G8 -> -14104.93
A9: 0 | B9: 2 | C9: 2900001 | D9: Impost construccions instal·lacions i obres | E9: 450000 | F9: 0 | G9: 450000 | H9: 573835.21 | I9: 201993.13 | J9: 0 | K9: 371842.08 | L9: 264382.22 | M9: 107459.86 | N9: -78157.92 | O9: =(K9*100%)/E9 -> 0.82631573 | P9: =(K9*100%)/G9 -> 0.82631573 | S9: =K9-G9 -> -78157.92
A10: 0 | B10: 3 | C10: 3020001 | D10: Taxa recollida d'escombraries | E10: 1313000 | F10: 0 | G10: 1313000 | H10: 1364397 | I10: 23498.33 | J10: 0 | K10: 1340898.7 | L10: 1163803.8 | M10: 177094.87 | N10: 27898.68 | O10: =(K10*100%)/E10 -> 1.021248 | P10: =(K10*100%)/G10 -> 1.021248 | S10: =K10-G10 -> 27898.68
A11: 0 | B11: 3 | C11: 3090001 | D11: Taxa serveis fúnebres | E11: 25000 | F11: 0 | G11: 25000 | H11: 24008.8 | I11: 202.6 | J11: 0 | K11: 23806.2 | L11: 21453.8 | M11: 2352.4 | N11: -1193.8 | O11: =(K11*100%)/E11 -> 0.952248 | P11: =(K11*100%)/G11 -> 0.952248 | S11: =K11-G11 -> -1193.8
A12: 0 | B12: 3 | C12: 3120001 | D12: Matrícules escola de música | E12: 23000 | F12: 0 | G12: 23000 | H12: 5134.15 | I12: 0 | J12: 0 | K12: 5134.15 | L12: 5134.15 | M12: 0 | N12: -17865.85 | O12: =(K12*100%)/E12 -> 0.22322391 | P12: =(K12*100%)/G12 -> 0.22322391 | S12: =K12-G12 -> -17865.85
A13: 0 | B13: 3 | C13: 3120002 | D13: Quotes escola de música | E13: 195000 | F13: 0 | G13: 195000 | H13: 203207.57 | I13: 0 | J13: 0 | K13: 203207.57 | L13: 200832.06 | M13: 2375.51 | N13: 8207.57 | O13: =(K13*100%)/E13 -> 1.0420901 | P13: =(K13*100%)/G13 -> 1.0420901 | S13: =K13-G13 -> 8207.57
A14: 0 | B14: 3 | C14: 3120003 | D14: Taxa lloguer instruments escola de música | E14: 0 | F14: 0 | G14: 0 | H14: 330 | I14: 0 | J14: 0 | K14: 330 | L14: 330 | M14: 0 | N14: 330 | O14: =(K14*100%)/E14 -> #DIV/0! | P14: =(K14*100%)/G14 -> #DIV/0!
A15: 0 | B15: 3 | C15: 3130001 | D15: Taxa poliesportiu municipal | E15: 1500 | F15: 0 | G15: 1500 | H15: 10170 | I15: 4015 | J15: 0 | K15: 6155 | L15: 5805 | M15: 350 | N15: 4655 | O15: =(K15*100%)/E15 -> 4.1033333 | P15: =(K15*100%)/G15 -> 4.1033333 | S15: =K15-G15 -> 4655
A16: 0 | B16: 3 | C16: 3130002 | D16: Taxa piscina Altet i Claravalls | E16: 16000 | F16: 0 | G16: 16000 | H16: 9309.8 | I16: 0 | J16: 0 | K16: 9309.8 | L16: 9309.8 | M16: 0 | N16: -6690.2 | O16: =(K16*100%)/E16 -> 0.5818625 | P16: =(K16*100%)/G16 -> 0.5818625 | S16: =K16-G16 -> -6690.2
A17: 0 | B17: 3 | C17: 3130003 | D17: Taxa piscina Claravalls | E17: 0 | F17: 0 | G17: 0 | H17: 8094 | I17: 0 | J17: 0 | K17: 8094 | L17: 8094 | M17: 0 | N17: 8094 | O17: =(K17*100%)/E17 -> #DIV/0! | P17: =(K17*100%)/G17 -> #DIV/0! | S17: =K17-G17 -> 8094
A18: 0 | B18: 3 | C18: 3130004 | D18: Taxa piscina descoberta Tàrrega | E18: 0 | F18: 0 | G18: 0 | H18: 107136 | I18: 0 | J18: 0 | K18: 107136 | L18: 106600.5 | M18: 535.5 | N18: 107136 | O18: =(K18*100%)/E18 -> #DIV/0! | P18: =(K18*100%)/G18 -> #DIV/0! | Q18: =(K16+K18+K19)-(E16+E19+E70) -> 19293.46 | R18: taxes piscines perquè estava en altres partides)
A19: 0 | B19: 3 | C19: 3130005 | D19: Taxa piscina coberta Tàrrega | E19: 95000 | F19: 0 | G19: 95000 | H19: 38847.66 | I19: 0 | J19: 0 | K19: 38847.66 | L19: 37284.66 | M19: 1563 | N19: -56152.34 | O19: =(K19*100%)/E19 -> 0.40892274 | P19: =(K19*100%)/G19 -> 0.40892274 | S19: =K19-G19 -> -56152.34
A20: 0 | B20: 3 | C20: 3190001 | D20: Targetes bus urbà | E20: 1000 | F20: 0 | G20: 1000 | H20: 2980.77 | I20: 0 | J20: 0 | K20: 2980.77 | L20: 2977.5 | M20: 3.27 | N20: 1980.77 | O20: =(K20*100%)/E20 -> 2.98077 | P20: =(K20*100%)/G20 -> 2.98077 | S20: =K20-G20 -> 1980.77
A21: 0 | B21: 3 | C21: 3190002 | D21: Taxa nínxols cementiri | E21: 30000 | F21: 0 | G21: 30000 | H21: 39366.54 | I21: 0 | J21: 0 | K21: 39366.54 | L21: 34896.54 | M21: 4470 | N21: 9366.54 | O21: =(K21*100%)/E21 -> 1.312218 | P21: =(K21*100%)/G21 -> 1.312218 | Q21: =K21-E21 -> 9366.54 | S21: =K21-G21 -> 9366.54
A22: 0 | B22: 3 | C22: 3190003 | D22: Taxa casaments i celebracions | E22: 2500 | F22: 0 | G22: 2500 | H22: 1660 | I22: 0 | J22: 0 | K22: 1660 | L22: 1660 | M22: 0 | N22: -840 | O22: =(K22*100%)/E22 -> 0.664 | P22: =(K22*100%)/G22 -> 0.664
A23: 0 | B23: 3 | C23: 3190004 | D23: Taxa conservació elements comuns cementiri | E23: 48000 | F23: 0 | G23: 48000 | H23: 48091.15 | I23: 0 | J23: 0 | K23: 48091.15 | L23: 42853.15 | M23: 5238 | N23: 91.15 | O23: =(K23*100%)/E23 -> 1.001899 | P23: =(K23*100%)/G23 -> 1.001899
A24: 0 | B24: 3 | C24: 3190005 | D24: Taxa alberg de pelegrins de Cal Trepat | E24: 0 | F24: 0 | G24: 0 | H24: 620 | I24: 0 | J24: 0 | K24: 620 | L24: 620 | M24: 0 | N24: 620 | O24: =(K24*100%)/E24 -> #DIV/0! | P24: =(K24*100%)/G24 -> #DIV/0!
A25: 0 | B25: 3 | C25: 3210001 | D25: Taxa llicències urbanístiques | E25: 40000 | F25: 0 | G25: 40000 | H25: 49611.32 | I25: 662 | J25: 0 | K25: 48949.32 | L25: 44971.52 | M25: 3977.8 | N25: 8949.32 | O25: =(K25*100%)/E25 -> 1.223733 | P25: =(K25*100%)/G25 -> 1.223733 | Q25: =K25-E25 -> 8949.32 | S25: =K25-G25 -> 8949.32
A26: 0 | B26: 3 | C26: 3220001 | D26: Taxa llicències habitabilitat i primera ocupació | E26: 200 | F26: 0 | G26: 200 | H26: 0 | I26: 0 | J26: 0 | K26: 0 | L26: 0 | M26: 0 | N26: -200 | O26: =(K26*100%)/E26 -> 0 | P26: =(K26*100%)/G26 -> 0
A27: 0 | B27: 3 | C27: 3250001 | D27: Taxa expedició documents | E27: 12500 | F27: 0 | G27: 12500 | H27: 14025.05 | I27: 106.25 | J27: 0 | K27: 13918.8 | L27: 11399.5 | M27: 2519.3 | N27: 1418.8 | O27: =(K27*100%)/E27 -> 1.113504 | P27: =(K27*100%)/G27 -> 1.113504 | Q27: =K27-E27 -> 1418.8 | S27: =K27-G27 -> 1418.8
A28: 0 | B28: 3 | C28: 3260001 | D28: Taxa retirada vehicles via pública | E28: 4500 | F28: 0 | G28: 4500 | H28: 3437.2 | I28: 53 | J28: 0 | K28: 3384.2 | L28: 3384.2 | M28: 0 | N28: -1115.8 | O28: =(K28*100%)/E28 -> 0.75204444 | P28: =(K28*100%)/G28 -> 0.75204444
A29: 0 | B29: 3 | C29: 3290002 | D29: Taxa llicència taxi | E29: 100 | F29: 0 | G29: 100 | H29: 0 | I29: 0 | J29: 0 | K29: 0 | L29: 0 | M29: 0 | N29: -100 | O29: =(K29*100%)/E29 -> 0 | P29: =(K29*100%)/G29 -> 0
A30: 0 | B30: 3 | C30: 3290003 | D30: Taxa obertura establiment | E30: 25000 | F30: 0 | G30: 25000 | H30: 30132.5 | I30: 0 | J30: 0 | K30: 30132.5 | L30: 23152.5 | M30: 6980 | N30: 5132.5 | O30: =(K30*100%)/E30 -> 1.2053 | P30: =(K30*100%)/G30 -> 1.2053 | Q30: =K30-E30 -> 5132.5 | S30: =K30-G30 -> 5132.5
A31: 0 | B31: 3 | C31: 3300001 | D31: Cànon estació d'autobusos | E31: 7500 | F31: 0 | G31: 7500 | H31: 12683.4 | I31: 0 | J31: 0 | K31: 12683.4 | L31: 12683.4 | M31: 0 | N31: 5183.4 | O31: =(K31*100%)/E31 -> 1.69112 | P31: =(K31*100%)/G31 -> 1.69112 | Q31: =K31-E31 -> 5183.4 | S31: =K31-G31 -> 5183.4
A32: 0 | B32: 3 | C32: 3310001 | D32: Taxa reserva aparcament entrada vehicles | E32: 81000 | F32: 0 | G32: 81000 | H32: 82450 | I32: 2125 | J32: 0 | K32: 80325 | L32: 73125 | M32: 7200 | N32: -675 | O32: =(K32*100%)/E32 -> 0.99166667 | P32: =(K32*100%)/G32 -> 0.99166667
A33: 0 | B33: 3 | C33: 3320001 | D33: O.V.P. Companyies elèctriques | E33: 170000 | F33: 0 | G33: 170000 | H33: 52442.63 | I33: 0 | J33: 0 | K33: 52442.63 | L33: 52442.63 | M33: 0 | N33: -117557.37 | O33: =(K33*100%)/E33 -> 0.30848606 | P33: =(K33*100%)/G33 -> 0.30848606 | Q33: =K33-E33 -> -117557.37 | S33: =K33-G33 -> -117557.37
A34: 0 | B34: 3 | C34: 3320002 | D34: O.V.P Companyies gas | E34: 52000 | F34: 0 | G34: 52000 | H34: 38741.71 | I34: 0 | J34: 0 | K34: 38741.71 | L34: 38741.71 | M34: 0 | N34: -13258.29 | O34: =(K34*100%)/E34 -> 0.74503288 | P34: =(K34*100%)/G34 -> 0.74503288 | Q34: =K34-E34 -> -13258.29 | S34: =K34-G34 -> -13258.29
A35: 0 | B35: 3 | C35: 3320010 | D35: O.V.P. Taxa 1,5% inspecció | E35: 0 | F35: 0 | G35: 0 | H35: 371066.13 | I35: 0 | J35: 0 | K35: 371066.13 | L35: 355769.33 | M35: 15296.8 | N35: 371066.13 | O35: =(K35*100%)/E35 -> #DIV/0! | P35: =(K35*100%)/G35 -> #DIV/0! | Q35: =K35 -> 371066.13 | S35: =K35-G35 -> 371066.13
A36: 0 | B36: 3 | C36: 3330001 | D36: O.V.P. Antenes centre entitats | E36: 7000 | F36: 0 | G36: 7000 | H36: 6623.72 | I36: 0 | J36: 0 | K36: 6623.72 | L36: 6623.72 | M36: 0 | N36: -376.28 | O36: =(K36*100%)/E36 -> 0.94624571 | P36: =(K36*100%)/G36 -> 0.94624571
A37: 0 | B37: 3 | C37: 3330002 | D37: O.V.P. Antenes farinera Balcells | E37: 7000 | F37: 0 | G37: 7000 | H37: 7627.39 | I37: 0 | J37: 0 | K37: 7627.39 | L37: 7627.39 | M37: 0 | N37: 627.39 | O37: =(K37*100%)/E37 -> 1.0896271 | P37: =(K37*100%)/G37 -> 1.0896271
A38: 0 | B38: 3 | C38: 3330003 | D38: Taxa per utilització privativa o aprofitament especial antenes Sant Eloi | E38: 7000 | F38: 0 | G38: 7000 | H38: 18982.1 | I38: 0 | J38: 0 | K38: 18982.1 | L38: 18982.1 | M38: 0 | N38: 11982.1 | O38: =(K38*100%)/E38 -> 2.7117286 | P38: =(K38*100%)/G38 -> 2.7117286 | Q38: =K38-E38 -> 11982.1 | S38: =K38-G38 -> 11982.1
A39: 0 | B39: 3 | C39: 3340001 | D39: Taxa obertura via pública per obres | E39: 500 | F39: 0 | G39: 500 | H39: 37.5 | I39: 0 | J39: 0 | K39: 37.5 | L39: 37.5 | M39: 0 | N39: -462.5 | O39: =(K39*100%)/E39 -> 0.075 | P39: =(K39*100%)/G39 -> 0.075
A40: 0 | B40: 3 | C40: 3350001 | D40: OVP Terrasses | E40: 36000 | F40: 0 | G40: 36000 | H40: 0 | I40: 101.81 | J40: 0 | K40: -101.81 | L40: -101.81 | M40: 0 | N40: -36101.81 | O40: =(K40*100%)/E40 -> -0.0028280556 | P40: =(K40*100%)/G40 -> -0.0028280556 | R40: ESTAN A ATENEU
...

Sheet LIQ.INGRESSOS CORRENT
A1: Org. | B1: Capitol | C1: Econ. | D1: Descripció | E1: Previsions inicials | F1: Modificacions | G1: Previsions definitives | H1: Drets reconeguts | I1: Drets anul.lats | J1: Drets cancel.lats | K1: Drets reconeguts nets | L1: Recaptació neta | M1: Drets pendents de cobrament | N1: Excés / defecte previsió
A2: 0 | B2: 1 | C2: 1120001 | D2: IBI Rústica | E2: 250000 | F2: 0 | G2: 250000 | H2: 248681.29 | I2: 587.74 | J2: 0 | K2: 248093.55 | L2: 208614.59 | M2: 39478.96 | N2: -1906.45
A3: 0 | B3: 1 | C3: 1130001 | D3: IBI Urbana | E3: 5400000 | F3: 0 | G3: 5400000 | H3: 5423437.8 | I3: 35757.05 | J3: 6411.79 | K3: 5381269 | L3: 4943571.8 | M3: 437697.21 | N3: -18731.02
A4: 0 | B4: 1 | C4: 1140001 | D4: IBI BICES | E4: 2500 | F4: 0 | G4: 2500 | H4: 2421.92 | I4: 0 | J4: 0 | K4: 2421.92 | L4: 2172.9 | M4: 249.02 | N4: -78.08
A5: 0 | B5: 1 | C5: 1150001 | D5: Impost sobre vehicles de tracció mecànica | E5: 1230000 | F5: 0 | G5: 1230000 | H5: 1233090.6 | I5: 7278.5 | J5: 11160.61 | K5: 1214651.5 | L5: 1040651.9 | M5: 173999.61 | N5: -15348.48
A6: 0 | B6: 1 | C6: 1160001 | D6: Impost increment terrenys naturalesa urbana | E6: 244900 | F6: 0 | G6: 244900 | H6: 406903.03 | I6: 9257.25 | J6: 0 | K6: 397645.78 | L6: 332409.46 | M6: 65236.32 | N6: 152745.78
A7: 0 | B7: 1 | C7: 1300001 | D7: Impost activitats econòmiques | E7: 485000 | F7: 0 | G7: 485000 | H7: 513323.84 | I7: 5107.82 | J7: 0 | K7: 508216.02 | L7: 460230.79 | M7: 47985.23 | N7: 23216.02
A8: 0 | B8: 1 | C8: 1300002 | D8: I.A.E. Hisenda | E8: 100000 | F8: 0 | G8: 100000 | H8: 85895.07 | I8: 0 | J8: 0 | K8: 85895.07 | L8: 85895.07 | M8: 0 | N8: -14104.93
A9: 0 | B9: 2 | C9: 2900001 | D9: Impost construccions instal·lacions i obres | E9: 450000 | F9: 0 | G9: 450000 | H9: 573835.21 | I9: 201993.13 | J9: 0 | K9: 371842.08 | L9: 264382.22 | M9: 107459.86 | N9: -78157.92
A10: 0 | B10: 3 | C10: 3020001 | D10: Taxa recollida d'escombraries | E10: 1313000 | F10: 0 | G10: 1313000 | H10: 1364397 | I10: 23498.33 | J10: 0 | K10: 1340898.7 | L10: 1163803.8 | M10: 177094.87 | N10: 27898.68
A11: 0 | B11: 3 | C11: 3090001 | D11: Taxa serveis fúnebres | E11: 25000 | F11: 0 | G11: 25000 | H11: 24008.8 | I11: 202.6 | J11: 0 | K11: 23806.2 | L11: 21453.8 | M11: 2352.4 | N11: -1193.8
A12: 0 | B12: 3 | C12: 3120001 | D12: Matrícules escola de música | E12: 23000 | F12: 0 | G12: 23000 | H12: 5134.15 | I12: 0 | J12: 0 | K12: 5134.15 | L12: 5134.15 | M12: 0 | N12: -17865.85
A13: 0 | B13: 3 | C13: 3120002 | D13: Quotes escola de música | E13: 195000 | F13: 0 | G13: 195000 | H13: 203207.57 | I13: 0 | J13: 0 | K13: 203207.57 | L13: 200832.06 | M13: 2375.51 | N13: 8207.57
... A241: 0 | B241: 9 | C241: 9130011 | D241: Préstecs rebuts a llarg termini d’ens de fora del sector públic.Vàries inversions 2022_1 | E241: 1339500 | F241: 330000 | G241: 1669500 | H241: 508001 | I241: 0 | J241: 0 | K241: 508001 | L241: 508001 | M241: 0 | N241: -1161499

Sheet CAPITOLS AJUNTAMENT
A3: Etiquetas de fila | B3: Suma de Previsions inicials | C3: Suma de Modificacions | D3: Suma de Previsions definitives | E3: Suma de Drets reconeguts | F3: Suma de Drets anul.lats | G3: Suma de Drets cancel.lats | H3: Suma de Drets reconeguts nets | I3: Suma de Recaptació neta | J3: Suma de Drets pendents de cobrament | K3: Suma de Excés / defecte previsió
A4: 1 | B4: 7712400 | C4: 0 | D4: 7712400 | E4: 7913753.6 | F4: 57988.36 | G4: 17572.4 | H4: 7838192.8 | I4: 7073546.5 | J4: 764646.35 | K4: 125792.84 | L4: =GETPIVOTDATA("Suma de Drets reconeguts nets",$A$3,"Capitol","1")/GETPIVOTDATA("Suma de Previsions definitives",$A$3,"Capitol","1") -> 1.0163105
A5: 2 | B5: 450000 | C5: 0 | D5: 450000 | E5: 573835.21 | F5: 201993.13 | G5: 0 | H5: 371842.08 | I5: 264382.22 | J5: 107459.86 | K5: -78157.92 | L5: =GETPIVOTDATA("Suma de Drets reconeguts nets",$A$3,"Capitol","2")/GETPIVOTDATA("Suma de Previsions definitives",$A$3,"Capitol","2") -> 0.82631573
A6: 3 | B6: 3838627 | C6: 0 | D6: 3838627 | E6: 4293950.8 | F6: 40521.4 | G6: 87503.76 | H6: 4165925.6 | I6: 3664413.9 | J6: 501511.69 | K6: 327298.64 | L6: =GETPIVOTDATA("Suma de Drets reconeguts nets",$A$3,"Capitol","3")/GETPIVOTDATA("Suma de Drets reconeguts",$A$3,"Capitol","3") -> 0.97018476
A7: 4 | B7: 5985716 | C7: 988903.67 | D7: 6974619.6 | E7: 6954511.9 | F7: 209607.35 | G7: 0 | H7: 6744904.6 | I7: 6405294.8 | J7: 339609.72 | K7: -229715.08 | L7: =GETPIVOTDATA("Suma de Drets reconeguts nets",$A$3,"Capitol","4")/GETPIVOTDATA("Suma de Drets reconeguts",$A$3,"Capitol","4") -> 0.96986024
A8: 5 | B8: 388503 | C8: 0 | D8: 388503 | E8: 376181.36 | F8: 50243.76 | G8: 0 | H8: 325937.6 | I8: 299389.78 | J8: 26547.82 | K8: -62565.4 | L8: =GETPIVOTDATA("Suma de Drets reconeguts nets",$A$3,"Capitol","5")/GETPIVOTDATA("Suma de Drets reconeguts",$A$3,"Capitol","5") -> 0.8664374
A9: 7 | B9: 1329500 | C9: 414933.74 | D9: 1744433.7 | E9: 1143572.3 | F9: 0 | G9: 0 | H9: 1143572.3 | I9: 729493.75 | J9: 414078.54 | K9: -600861.45 | L9: =GETPIVOTDATA("Suma de Drets reconeguts nets",$A$3,"Capitol","7")/GETPIVOTDATA("Suma de Previsions definitives",$A$3,"Capitol","7") -> 0.65555502
A10: 8 | B10: 0 | C10: 2093162.5 | D10: 2093162.5 | E10: 0 | F10: 0 | G10: 0 | H10: 0 | I10: 0 | J10: 0 | K10: -2093162.5
A11: 9 | B11: 1339500 | C11: 330000 | D11: 1669500 | E11: 508001 | F11: 0 | G11: 0 | H11: 508001 | I11: 508001 | J11: 0 | K11: -1161499 | L11: =GETPIVOTDATA("Suma de Drets reconeguts nets",$A$3,"Capitol","9")/GETPIVOTDATA("Suma de Previsions definitives",$A$3,"Capitol","9") -> 0.30428332
A12: Total general | B12: 21044246 | C12: 3826999.9 | D12: 24871246 | E12: 21763806 | F12: 560354 | G12: 105076.16 | H12: 21098376 | I12: 18944522 | J12: 2153854 | K12: -3772869.9

Sheet EPEL
A1: EPEL CAPITOLS
A4: INGRESSOS | B4: DRN
A5: CAPITOL 1
A6: CAPITOL 2
A7: CAPITOL 3 | B7: =276872.76 -> 276872.76
A8: CAPITOL 4 | B8: 920350
A9: CAPITOL 5
A10: CAPITOL 6
A11: CAPITOL 7
A12: CAPITOL 9
B13: =SUM(B5:B12) -> 1197222.8
A15: DESPESES | B15: ORN
A16: CAPITOL 1 | B16: 429706.15
A17: CAPITOL 2 | B17: =650235.43+165117.14 -> 815352.57
A18: CAPITOL 3 | B18: 3280.69
A19: CAPITOL 4
A20: CAPITOL 6
A21: CAPITOL 7
A22: CAPITOL 9
B23: =SUM(B16:B22) -> 1248339.4
A26: RTAT PRESSUPOSTARI | B26: =B13-B23 -> -51116.65
A27: PIG | B27: -53630.31
A28: NOTA | B28: DESQUADRA DEL PIG PERQUÈ L'AMORTITZACIÓ NO ES UNA DESPESA PRESSUPOSTARIA
A29: amortitzacio | B29: =B27-B26 -> -2513.66

Sheet SUMTA
A1: CAPITOLS
A3: INGRESSOS | B3: DRN
A4: CAPITOL 1
A5: CAPITOL 2
A6: CAPITOL 3 | B6: 0
A7: CAPITOL 4 | B7: 0
A8: CAPITOL 5 | B8: 0
A9: CAPITOL 6
A10: CAPITOL 7
A11: CAPITOL 9
B12: =SUM(B4:B11) -> 0
A14: DESPESES | B14: ORN
A15: CAPITOL 1 | B15: 0
A16: CAPITOL 2 | B16: 7449.68
A17: CAPITOL 3 | B17: 120
A18: CAPITOL 4
A19: CAPITOL 6 | B19: 0
A20: CAPITOL 7
A21: CAPITOL 9
B22: =SUM(B15:B21) -> 7569.68

Sheet CONSOLIDAT
A1: INGRESSOS CONSOLIDATS
B3: AJUNTAMENT | C3: EPEL | D3: SUMTA | E3: TRANSFERENCIES INTERNES | F3: TOTAL CONSOLIDAT
A4: Capítol1 | B4: =GETPIVOTDATA("Suma de Drets reconeguts nets",'CAPITOLS AJUNTAMENT'!$A$3,"Capitol","1") -> 7838192.8 | D4: 0 | F4: =B4+C4+D4-E4 -> 7838192.8
A5: Capítol 2 | B5: =GETPIVOTDATA("Suma de Drets reconeguts nets",'CAPITOLS AJUNTAMENT'!$A$3,"Capitol","2") -> 371842.08 | D5: 0 | F5: =B5+C5+D5-E5 -> 371842.08
A6: Capítol 3 | B6: =GETPIVOTDATA("Suma de Drets reconeguts nets",'CAPITOLS AJUNTAMENT'!$A$3,"Capitol","3") -> 4165925.6 | C6: =EPEL!B7 -> 276872.76 | D6: 0 | F6: =B6+C6+D6-E6 -> 4442798.4
A7: Capítol 4 | B7: =GETPIVOTDATA("Suma de Drets reconeguts nets",'CAPITOLS AJUNTAMENT'!$A$3,"Capitol","4") -> 6744904.6 | C7: =EPEL!B8 -> 920350 | D7: 0 | E7: 216000 | F7: =B7+C7+D7-E7 -> 7449254.6
A8: Capítol 5 | B8: =GETPIVOTDATA("Suma de Drets reconeguts nets",'CAPITOLS AJUNTAMENT'!$A$3,"Capitol","5") -> 325937.6 | D8: 0 | F8: =B8+C8+D8-E8 -> 325937.6
A9: Capítol 6 | B9: 0 | D9: 0 | F9: =B9+C9+D9-E9 -> 0
A10: Capítol 7 | B10: =GETPIVOTDATA("Suma de Drets reconeguts nets",'CAPITOLS AJUNTAMENT'!$A$3,"Capitol","7") -> 1143572.3 | D10: 0 | F10: =B10+C10+D10-E10 -> 1143572.3
A11: Capítol 8 | B11: 0 | D11: 0 | F11: =B11+C11+D11-E11 -> 0
A12: Capítol 9 | B12: =GETPIVOTDATA("Suma de Drets reconeguts nets",'CAPITOLS AJUNTAMENT'!$A$3,"Capitol","9") -> 508001 | D12: 0 | F12: =B12+C12+D12-E12 -> 508001
B13: =SUM(B4:B12) -> 21098376 | C13: =SUM(C4:C12) -> 1197222.8 | D13: =SUM(D4:D12) -> 0 | E13: =SUM(E4:E12) -> 216000 | F13: =SUM(F4:F12) -> 22079599
A16: INGRESSOS CORRENTS CONSOLIDATS | B16: =F4+F5+F6+F7+F8 -> 20428025
