Workbook

Sheet INGRESSOS
B1: PRESSUPOST D'INGRESSOS | G1: 2023
A2: OFICINA ORIGINAL | B2: OFICINA | C2: Econ. | D2: Econ SICALWIN | E2: EC | F2: Descripció | G2: PRESS 2023
A3: Tresoreria | B3: =A3 -> Tresoreria | C3: 1120001 | D3: 11200 | E3: =MID(C3,1,1) -> 1 | F3: IBI Rústica | G3: 250000
A4: Tresoreria | B4: =A4 -> Tresoreria | C4: 1130001 | D4: 11300 | E4: =MID(C4,1,1) -> 1 | F4: IBI Urbana | G4: 5400000
A5: Tresoreria | B5: =A5 -> Tresoreria | C5: 1140001 | D5: 11400 | E5: =MID(C5,1,1) -> 1 | F5: IBI BICES | G5: 2500
A6: Tresoreria | B6: =A6 -> Tresoreria | C6: 1150001 | D6: 11500 | E6: =MID(C6,1,1) -> 1 | F6: Impost sobre vehicles de tracció mecànica | G6: 1230000
A7: Tresoreria | B7: =A7 -> Tresoreria | C7: 1160001 | D7: 11600 | E7: =MID(C7,1,1) -> 1 | F7: Impost increment terrenys naturalesa urbana | G7: =230000+14900 -> 244900
A8: Tresoreria | B8: =A8 -> Tresoreria | C8: 1300001 | D8: 13000 | E8: =MID(C8,1,1) -> 1 | F8: Impost activitats econòmiques | G8: 485000
A9: Tresoreria | B9: =A9 -> Tresoreria | C9: 1300002 | D9: 13001 | E9: =MID(C9,1,1) -> 1 | F9: I.A.E. Hisenda | G9: 100000
A10: Urbanisme | B10: =A10 -> Urbanisme | C10: 2900001 | D10: 29000 | E10: =MID(C10,1,1) -> 2 | F10: Impost construccions instal·lacions i obres | G10: 450000
A11: Tresoreria | B11: =A11 -> Tresoreria | C11: 3020001 | D11: 30200 | E11: =MID(C11,1,1) -> 3 | F11: Taxa recollida d'escombraries | G11: 1313000
A12: Tresoreria | B12: =A12 -> Tresoreria | C12: 3090001 | D12: 30900 | E12: =MID(C12,1,1) -> 3 | F12: Taxa serveis fúnebres | G12: 25000
A13: E_Música | B13: =A13 -> E_Música | C13: 3120001 | D13: 31201 | E13: =MID(C13,1,1) -> 3 | F13: Matrícules escola de música | G13: 23000
A14: E_Música | B14: =A14 -> E_Música | C14: 3120002 | D14: 31202 | E14: =MID(C14,1,1) -> 3 | F14: Quotes escola de música | G14: 195000
A15: Esports | B15: =A15 -> Esports | C15: 3130001 | D15: 31301 | E15: =MID(C15,1,1) -> 3 | F15: Taxa poliesportius | G15: 1500
A16: Complex piscines | B16: =A16 -> Complex piscines | C16: 3130002 | D16: 31302 | E16: =MID(C16,1,1) -> 3 | F16: Taxa piscina Altet i Claravalls | G16: 16000
A17: Promoció Econòmica | B17: =A17 -> Promoció Econòmica | C17: 3190001 | D17: 31901 | E17: =MID(C17,1,1) -> 3 | F17: Targetes bus urbà | G17: 1000
A18: Tresoreria | B18: =A18 -> Tresoreria | C18: 3190002 | D18: 31902 | E18: =MID(C18,1,1) -> 3 | F18: Taxa nínxols cementiri | G18: 30000
A19: Administració General Secretaria | B19: =A19 -> Administració General Secretaria | C19: 3190003 | D19: 31903 | E19: =MID(C19,1,1) -> 3 | F19: Taxa casaments i celebracions | G19: 2500
A20: Tresoreria | B20: =A20 -> Tresoreria | C20: 3190004 | D20: 31904 | E20: =MID(C20,1,1) -> 3 | F20: Taxa conservació elements comuns cementiri | G20: 48000
A21: Urbanisme | B21: =A21 -> Urbanisme | C21: 3210001 | D21: 32100 | E21: =MID(C21,1,1) -> 3 | F21: Taxa llicències urbanístiques | G21: 40000
A22: Urbanisme | B22: =A22 -> Urbanisme | C22: 3220001 | D22: 32200 | E22: =MID(C22,1,1) -> 3 | F22: Taxa llicències habitabilitat i primera ocupació | G22: 200
A23: Tresoreria | B23: =A23 -> Tresoreria | C23: 3250001 | D23: 32500 | E23: =MID(C23,1,1) -> 3 | F23: Taxa expedició documents | G23: 12500
A24: Governació | B24: Governació | C24: 3260001 | D24: 32600 | E24: =MID(C24,1,1) -> 3 | F24: Taxa retirada vehicles via pública | G24: 4500
A25: Administració General Secretaria | B25: =A25 -> Administració General Secretaria | C25: 3290002 | D25: 32902 | E25: =MID(C25,1,1) -> 3 | F25: Taxa llicència taxi | G25: 100
A26: Urbanisme | B26: =A26 -> Urbanisme | C26: 3290003 | D26: 32903 | E26: =MID(C26,1,1) -> 3 | F26: Taxa obertura establiment | G26: 25000
A27: Promoció Econòmica | B27: =A27 -> Promoció Econòmica | C27: 3300001 | D27: 33000 | E27: =MID(C27,1,1) -> 3 | F27: Cànon estació d'autobusos | G27: 7500
A28: Tresoreria | B28: =A28 -> Tresoreria | C28: 3310001 | D28: 33100 | E28: =MID(C28,1,1) -> 3 | F28: Taxa reserva aparcament entrada vehicles | G28: 81000
A29: Tresoreria | B29: =A29 -> Tresoreria | C29: 3320001 | D29: 33201 | E29: =MID(C29,1,1) -> 3 | F29: OVP Companyies elèctriques | G29: 170000
A30: Tresoreria | B30: =A30 -> Tresoreria | C30: 3320002 | D30: 33202 | E30: =MID(C30,1,1) -> 3 | F30: OVP Companyies gas | G30: 52000
A31: Tresoreria | B31: =A31 -> Tresoreria | C31: 3330001 | D31: 33301 | E31: =MID(C31,1,1) -> 3 | F31: OVP Antenes centre entitats | G31: 7000
A32: Tresoreria | B32: =A32 -> Tresoreria | C32: 3330002 | D32: 33302 | E32: =MID(C32,1,1) -> 3 | F32: OVP Antenes farinera Balcells | G32: 7000
A33: Tresoreria | B33: =A33 -> Tresoreria | C33: 3330003 | D33: 33303 | E33: =MID(C33,1,1) -> 3 | F33: Taxa per utilització privativa o aprofitament especial antenes Sant Eloi | G33: 7000
A34: Urbanisme | B34: =A34 -> Urbanisme | C34: 3340001 | D34: 33400 | E34: =MID(C34,1,1) -> 3 | F34: Taxa obertura via pública per obres | G34: 500
A35: Tresoreria | B35: =A35 -> Tresoreria | C35: 3350001 | D35: 33501 | E35: =MID(C35,1,1) -> 3 | F35: OVP Terrasses | G35: 36000
A36: Tresoreria | B36: =A36 -> Tresoreria | C36: 3350002 | D36: 33502 | E36: =MID(C36,1,1) -> 3 | F36: OVP Bar Festes | G36: 5000
A37: Tresoreria | B37: =A37 -> Tresoreria | C37: 3380001 | D37: 33800 | E37: =MID(C37,1,1) -> 3 | F37: Compensació companyia Telefónica España SA | G37: 60000
A38: Esports | B38: =A38 -> Esports | C38: 3390003 | D38: 33903 | E38: =MID(C38,1,1) -> 3 | F38: Taxa ocupació zona de lleure Felip Robinat | G38: 1000
A39: Igualtat, salut i joventut | B39: =A39 -> Igualtat, salut i joventut | C39: 3390001 | D39: 33901 | E39: =MID(C39,1,1) -> 3 | F39: Taxa utilització Oficina Jove | G39: 1800
A40: Cultura | B40: =A40 -> Cultura | C40: 3390002 | D40: 33902 | E40: =MID(C40,1,1) -> 3 | F40: Taxa utilització sala biblioteca | G40: 250
...

Sheet DESPESES
B1: PRESSUPOST DE DESPESES | K1: 2023
A2: OFICINA ORIGINAL | B2: OFICINA | C2: Orgànica | D2: Orgànica descrip | E2: Prog. | F2: Progr | G2: Econ. | H2: concatenar | I2: cap | J2: Descripció | K2: PRESS 2023 | L2: AD 031122
A3: Tresoreria | B3: Tresoreria | C3: 03 | D3: FINANCES I TRANSPARÈNCIA | E3: 01100 | F3: Interessos | G3: 3100001 | H3: =_xlfn.CONCAT(E3,G3) -> 011003100001 | I3: =MID(G3,1,1) -> 3 | J3: Interessos préstec refinançament Caixabank 2019 | K3: 37616.12 | L3: =INDEX('A I D FUTURES'!$B:$B,MATCH(H3,'A I D FUTURES'!$A:$A,0)) -> #N/A
A4: Tresoreria | B4: Tresoreria | C4: 03 | D4: FINANCES I TRANSPARÈNCIA | E4: 01100 | F4: Interessos | G4: 3100002 | H4: =_xlfn.CONCAT(E4,G4) -> 011003100002 | I4: =MID(G4,1,1) -> 3 | J4: Interessos préstec 50.000 elements de transport Caixabank 2019 | K4: 409.5 | L4: =INDEX('A I D FUTURES'!$B:$B,MATCH(H4,'A I D FUTURES'!$A:$A,0)) -> #N/A
A5: Tresoreria | B5: Tresoreria | C5: 03 | D5: FINANCES I TRANSPARÈNCIA | E5: 01100 | F5: Interessos | G5: 3100004 | H5: =_xlfn.CONCAT(E5,G5) -> 011003100004 | I5: =MID(G5,1,1) -> 3 | J5: Interessos préstec 272.000 piscina coberta Caixabank 2020 | K5: 5761.98 | L5: =INDEX('A I D FUTURES'!$B:$B,MATCH(H5,'A I D FUTURES'!$A:$A,0)) -> #N/A
A6: Tresoreria | B6: Tresoreria | C6: 03 | D6: FINANCES I TRANSPARÈNCIA | E6: 01100 | F6: Interessos | G6: 3100009 | H6: =_xlfn.CONCAT(E6,G6) -> 011003100009 | I6: =MID(G6,1,1) -> 3 | J6: Interessos prèstec RESIDENCIA TREPAT Caixabank 2021 | K6: 10041.54 | L6: =INDEX('A I D FUTURES'!$B:$B,MATCH(H6,'A I D FUTURES'!$A:$A,0)) -> #N/A
A7: Tresoreria | B7: Tresoreria | C7: 03 | D7: FINANCES I TRANSPARÈNCIA | E7: 01100 | F7: Interessos | G7: 3100010 | H7: =_xlfn.CONCAT(E7,G7) -> 011003100010 | I7: =MID(G7,1,1) -> 3 | J7: Interessos prèstec 109.000 caldera/escombradora BSAB 2021 | K7: 2406.72 | L7: =INDEX('A I D FUTURES'!$B:$B,MATCH(H7,'A I D FUTURES'!$A:$A,0)) -> #N/A
A8: Tresoreria | B8: Tresoreria | C8: 03 | D8: FINANCES I TRANSPARÈNCIA | E8: 01100 | F8: Interessos | G8: 3100012 | H8: =_xlfn.CONCAT(E8,G8) -> 011003100012 | I8: =MID(G8,1,1) -> 3 | J8: Interessos prèstec 214.000 Caixabank inversions 2022 | K8: 5236.31 | L8: =INDEX('A I D FUTURES'!$B:$B,MATCH(H8,'A I D FUTURES'!$A:$A,0)) -> #N/A
A9: Tresoreria | B9: Tresoreria | C9: 03 | D9: FINANCES I TRANSPARÈNCIA | E9: 01100 | F9: Interessos | G9: 3100013 | H9: =_xlfn.CONCAT(E9,G9) -> 011003100013 | I9: =MID(G9,1,1) -> 3 | J9: Interessos prèstec inversions 2023 | K9: 13539.77 | L9: =INDEX('A I D FUTURES'!$B:$B,MATCH(H9,'A I D FUTURES'!$A:$A,0)) -> #N/A
A10: Tresoreria | B10: Tresoreria | C10: 03 | D10: FINANCES I TRANSPARÈNCIA | E10: 01100 | F10: Interessos | G10: 3103701 | H10: =_xlfn.CONCAT(E10,G10) -> 011003103701 | I10: =MID(G10,1,1) -> 3 | J10: Interessos pòlissa de crèdit | K10: 500 | L10: =INDEX('A I D FUTURES'!$B:$B,MATCH(H10,'A I D FUTURES'!$A:$A,0)) -> #N/A
A11: Tresoreria | B11: Tresoreria | C11: 03 | D11: FINANCES I TRANSPARÈNCIA | E11: 01100 | F11: Interessos | G11: 3105101 | H11: =_xlfn.CONCAT(E11,G11) -> 011003105101 | I11: =MID(G11,1,1) -> 3 | J11: BBVA Refinançament | K11: 20945.35 | L11: =INDEX('A I D FUTURES'!$B:$B,MATCH(H11,'A I D FUTURES'!$A:$A,0)) -> #N/A
A12: Tresoreria | B12: Tresoreria | C12: 03 | D12: FINANCES I TRANSPARÈNCIA | E12: 01100 | F12: Interessos | G12: 3105901 | H12: =_xlfn.CONCAT(E12,G12) -> 011003105901 | I12: =MID(G12,1,1) -> 3 | J12: Caja Madrid 2008 | K12: 775.63 | L12: =INDEX('A I D FUTURES'!$B:$B,MATCH(H12,'A I D FUTURES'!$A:$A,0)) -> #N/A
A13: Tresoreria | B13: Tresoreria | C13: 03 | D13: FINANCES I TRANSPARÈNCIA | E13: 01100 | F13: Interessos | G13: 3106201 | H13: =_xlfn.CONCAT(E13,G13) -> 011003106201 | I13: =MID(G13,1,1) -> 3 | J13: Caja Madrid 2009 | K13: 9378.98 | L13: =INDEX('A I D FUTURES'!$B:$B,MATCH(H13,'A I D FUTURES'!$A:$A,0)) -> #N/A
A14: Tresoreria | B14: Tresoreria | C14: 03 | D14: FINANCES I TRANSPARÈNCIA | E14: 01100 | F14: Interessos | G14: 3110001 | H14: =_xlfn.CONCAT(E14,G14) -> 011003110001 | I14: =MID(G14,1,1) -> 3 | J14: Despeses Formalització | K14: 1000 | L14: =INDEX('A I D FUTURES'!$B:$B,MATCH(H14,'A I D FUTURES'!$A:$A,0)) -> #N/A | N14: =SUBTOTAL(9,K3:K14) -> 107611.9
A15: Tresoreria | B15: Tresoreria | C15: 03 | D15: FINANCES I TRANSPARÈNCIA | E15: 01102 | F15: Interessos | G15: 9130009 | H15: =_xlfn.CONCAT(E15,G15) -> 011029130009 | I15: =MID(G15,1,1) -> 9 | J15: Amortització prèstec RESIDENCIA TREPAT Caixabank 2021 | K15: 12250 | L15: =INDEX('A I D FUTURES'!$B:$B,MATCH(H15,'A I D FUTURES'!$A:$A,0)) -> #N/A
A16: Tresoreria | B16: Tresoreria | C16: 03 | D16: FINANCES I TRANSPARÈNCIA | E16: 01102 | F16: Interessos | G16: 9130012 | H16: =_xlfn.CONCAT(E16,G16) -> 011029130012 | I16: =MID(G16,1,1) -> 9 | J16: Amortització prèstec 214.000 Caixabank inversions 2022 | K16: 21400 | L16: =INDEX('A I D FUTURES'!$B:$B,MATCH(H16,'A I D FUTURES'!$A:$A,0)) -> #N/A
A17: Tresoreria | B17: Tresoreria | C17: 03 | D17: FINANCES I TRANSPARÈNCIA | E17: 01102 | F17: Interessos | G17: 9130013 | H17: =_xlfn.CONCAT(E17,G17) -> 011029130013 | I17: =MID(G17,1,1) -> 9 | J17: Amortització prèstec inversions 2023 | K17: 58000 | L17: =INDEX('A I D FUTURES'!$B:$B,MATCH(H17,'A I D FUTURES'!$A:$A,0)) -> #N/A
A18: Tresoreria | B18: Tresoreria | C18: 03 | D18: FINANCES I TRANSPARÈNCIA | E18: 01102 | F18: Amortitzacions | G18: 9130001 | H18: =_xlfn.CONCAT(E18,G18) -> 011029130001 | I18: =MID(G18,1,1) -> 9 | J18: Amortització prestec refinançament Caixa Banc 2019 | K18: 222662.9 | L18: =INDEX('A I D FUTURES'!$B:$B,MATCH(H18,'A I D FUTURES'!$A:$A,0)) -> #N/A
A19: Tresoreria | B19: Tresoreria | C19: 03 | D19: FINANCES I TRANSPARÈNCIA | E19: 01102 | F19: Amortitzacions | G19: 9130002 | H19: =_xlfn.CONCAT(E19,G19) -> 011029130002 | I19: =MID(G19,1,1) -> 9 | J19: Amortització préstec 50.000 elements de transport Caixabank 2019 | K19: 10000 | L19: =INDEX('A I D FUTURES'!$B:$B,MATCH(H19,'A I D FUTURES'!$A:$A,0)) -> #N/A
A20: Tresoreria | B20: Tresoreria | C20: 03 | D20: FINANCES I TRANSPARÈNCIA | E20: 01102 | F20: Amortitzacions | G20: 9130004 | H20: =_xlfn.CONCAT(E20,G20) -> 011029130004 | I20: =MID(G20,1,1) -> 9 | J20: Amortització préstec 272.000 piscina coberta Caixabank 2020 | K20: 27200 | L20: =INDEX('A I D FUTURES'!$B:$B,MATCH(H20,'A I D FUTURES'!$A:$A,0)) -> #N/A
A21: Tresoreria | B21: Tresoreria | C21: 03 | D21: FINANCES I TRANSPARÈNCIA | E21: 01102 | F21: Amortitzacions | G21: 9130010 | H21: =_xlfn.CONCAT(E21,G21) -> 011029130010 | I21: =MID(G21,1,1) -> 9 | J21: Amortització prèstec 109.000 caldera/escombradora BSAB 2021 | K21: 9887.88 | L21: =INDEX('A I D FUTURES'!$B:$B,MATCH(H21,'A I D FUTURES'!$A:$A,0)) -> #N/A
A22: Tresoreria | B22: Tresoreria | C22: 03 | D22: FINANCES I TRANSPARÈNCIA | E22: 01102 | F22: Amortitzacions | G22: 9130011 | H22: =_xlfn.CONCAT(E22,G22) -> 011029130011 | I22: =MID(G22,1,1) -> 9 | J22: Amortització prèstec DA 108 1498033,79 BSAB 2021 | K22: 748016.89 | L22: =INDEX('A I D FUTURES'!$B:$B,MATCH(H22,'A I D FUTURES'!$A:$A,0)) -> #N/A
A23: Tresoreria | B23: Tresoreria | C23: 03 | D23: FINANCES I TRANSPARÈNCIA | E23: 01102 | F23: Amortitzacions | G23: 9136101 | H23: =_xlfn.CONCAT(E23,G23) -> 011029136101 | I23: =MID(G23,1,1) -> 9 | J23: Caja Madrid 2008 | K23: 84827.36 | L23: =INDEX('A I D FUTURES'!$B:$B,MATCH(H23,'A I D FUTURES'!$A:$A,0)) -> #N/A | M23: =+K23-L23 -> #N/A
A24: Tresoreria | B24: Tresoreria | C24: 03 | D24: FINANCES I TRANSPARÈNCIA | E24: 01102 | F24: Amortitzacions | G24: 9136401 | H24: =_xlfn.CONCAT(E24,G24) -> 011029136401 | I24: =MID(G24,1,1) -> 9 | J24: Caja Madrid 2009 | K24: 77922.74 | L24: =INDEX('A I D FUTURES'!$B:$B,MATCH(H24,'A I D FUTURES'!$A:$A,0)) -> #N/A | M24: =+K24-L24 -> #N/A
A25: Tresoreria | B25: Tresoreria | C25: 03 | D25: FINANCES I TRANSPARÈNCIA | E25: 01102 | F25: Amortitzacions | G25: 9136801 | H25: =_xlfn.CONCAT(E25,G25) -> 011029136801 | I25: =MID(G25,1,1) -> 9 | J25: Amortització BBVA refin 2010 | K25: 333934.8 | L25: =INDEX('A I D FUTURES'!$B:$B,MATCH(H25,'A I D FUTURES'!$A:$A,0)) -> #N/A
A26: Recursos Humans | B26: Recursos Humans | C26: 01 | D26: ALCALDIA | E26: 13200 | F26: Guàrdia Urbana | G26: 1200301 | H26: =_xlfn.CONCAT(E26,G26) -> 132001200301 | I26: =MID(G26,1,1) -> 1 | J26: Sous Grup C1 | K26: 11422.79 | L26: =INDEX('A I D FUTURES'!$B:$B,MATCH(H26,'A I D FUTURES'!$A:$A,0)) -> #N/A
A27: Recursos Humans | B27: Recursos Humans | C27: 01 | D27: ALCALDIA | E27: 13200 | F27: Guàrdia Urbana | G27: 1200401 | H27: =_xlfn.CONCAT(E27,G27) -> 132001200401 | I27: =MID(G27,1,1) -> 1 | J27: Sous Grup C2 | K27: 203524.92 | L27: =INDEX('A I D FUTURES'!$B:$B,MATCH(H27,'A I D FUTURES'!$A:$A,0)) -> #N/A
A28: Recursos Humans | B28: Recursos Humans | C28: 01 | D28: ALCALDIA | E28: 13200 | F28: Guàrdia Urbana | G28: 1200601 | H28: =_xlfn.CONCAT(E28,G28) -> 132001200601 | I28: =MID(G28,1,1) -> 1 | J28: Triennis Funcionaris | K28: 22174.92 | L28: =INDEX('A I D FUTURES'!$B:$B,MATCH(H28,'A I D FUTURES'!$A:$A,0)) -> #N/A
A29: Recursos Humans | B29: Recursos Humans | C29: 01 | D29: ALCALDIA | E29: 13200 | F29: Guàrdia Urbana | G29: 1210001 | H29: =_xlfn.CONCAT(E29,G29) -> 132001210001 | I29: =MID(G29,1,1) -> 1 | J29: Complement Destí Personal Funcionari | K29: 116146.86 | L29: =INDEX('A I D FUTURES'!$B:$B,MATCH(H29,'A I D FUTURES'!$A:$A,0)) -> #N/A
A30: Recursos Humans | B30: Recursos Humans | C30: 01 | D30: ALCALDIA | E30: 13200 | F30: Guàrdia Urbana | G30: 1210101 | H30: =_xlfn.CONCAT(E30,G30) -> 132001210101 | I30: =MID(G30,1,1) -> 1 | J30: Complement Específic Personal Funcionari | K30: 329103.58 | L30: =INDEX('A I D FUTURES'!$B:$B,MATCH(H30,'A I D FUTURES'!$A:$A,0)) -> #N/A
A31: Recursos Humans | B31: Recursos Humans | C31: 01 | D31: ALCALDIA | E31: 13200 | F31: Guàrdia Urbana | G31: 1300001 | H31: =_xlfn.CONCAT(E31,G31) -> 132001300001 | I31: =MID(G31,1,1) -> 1 | J31: Retribucions Bàsiques Personal Laboral Fix | K31: 35375.64 | L31: =INDEX('A I D FUTURES'!$B:$B,MATCH(H31,'A I D FUTURES'!$A:$A,0)) -> #N/A
A32: Recursos Humans | B32: Recursos Humans | C32: 01 | D32: ALCALDIA | E32: 13200 | F32: Guàrdia Urbana | G32: 1300002 | H32: =_xlfn.CONCAT(E32,G32) -> 132001300002 | I32: =MID(G32,1,1) -> 1 | J32: Triennis Personal Laboral Fix | K32: 9018.55 | L32: =INDEX('A I D FUTURES'!$B:$B,MATCH(H32,'A I D FUTURES'!$A:$A,0)) -> #N/A
A33: Recursos Humans | B33: Recursos Humans | C33: 01 | D33: ALCALDIA | E33: 13200 | F33: Guàrdia Urbana | G33: 1300101 | H33: =_xlfn.CONCAT(E33,G33) -> 132001300101 | I33: =MID(G33,1,1) -> 1 | J33: Hores Extres Personal Laboral Fix | K33: 2900 | L33: =INDEX('A I D FUTURES'!$B:$B,MATCH(H33,'A I D FUTURES'!$A:$A,0)) -> #N/A
A34: Recursos Humans | B34: Recursos Humans | C34: 01 | D34: ALCALDIA | E34: 13200 | F34: Guàrdia Urbana | G34: 1300201 | H34: =_xlfn.CONCAT(E34,G34) -> 132001300201 | I34: =MID(G34,1,1) -> 1 | J34: Complement Destí Personal Laboral Fix | K34: 18408.93 | L34: =INDEX('A I D FUTURES'!$B:$B,MATCH(H34,'A I D FUTURES'!$A:$A,0)) -> #N/A | M34: =+K34-L34 -> #N/A
A35: Recursos Humans | B35: Recursos Humans | C35: 01 | D35: ALCALDIA | E35: 13200 | F35: Guàrdia Urbana | G35: 1300202 | H35: =_xlfn.CONCAT(E35,G35) -> 132001300202 | I35: =MID(G35,1,1) -> 1 | J35: Complement Específic Personal Laboral Fix | K35: 21722.25 | L35: =INDEX('A I D FUTURES'!$B:$B,MATCH(H35,'A I D FUTURES'!$A:$A,0)) -> #N/A | M35: =+K35-L35 -> #N/A
A36: Recursos Humans | B36: Recursos Humans | C36: 01 | D36: ALCALDIA | E36: 13200 | F36: Guàrdia Urbana | G36: 1310001 | H36: =_xlfn.CONCAT(E36,G36) -> 132001310001 | I36: =MID(G36,1,1) -> 1 | J36: Retribucions Bàsiques Personal Laboral Temp | K36: 19252.89 | L36: =INDEX('A I D FUTURES'!$B:$B,MATCH(H36,'A I D FUTURES'!$A:$A,0)) -> #N/A | M36: =+K36-L36 -> #N/A
A37: Recursos Humans | B37: Recursos Humans | C37: 01 | D37: ALCALDIA | E37: 13200 | F37: Guàrdia Urbana | G37: 1310002 | H37: =_xlfn.CONCAT(E37,G37) -> 132001310002 | I37: =MID(G37,1,1) -> 1 | J37: Triennis laboral temporal | K37: 5112.15 | L37: =INDEX('A I D FUTURES'!$B:$B,MATCH(H37,'A I D FUTURES'!$A:$A,0)) -> #N/A
A38: Recursos Humans | B38: Recursos Humans | C38: 01 | D38: ALCALDIA | E38: 13200 | F38: Guàrdia Urbana | G38: 1310003 | H38: =_xlfn.CONCAT(E38,G38) -> 132001310003 | I38: =MID(G38,1,1) -> 1 | J38: Complement Destí Personal Laboral Temporal | K38: 11259.42 | L38: =INDEX('A I D FUTURES'!$B:$B,MATCH(H38,'A I D FUTURES'!$A:$A,0)) -> #N/A | M38: =+K38-L38 -> #N/A
A39: Recursos Humans | B39: Recursos Humans | C39: 01 | D39: ALCALDIA | E39: 13200 | F39: Guàrdia Urbana | G39: 1310004 | H39: =_xlfn.CONCAT(E39,G39) -> 132001310004 | I39: =MID(G39,1,1) -> 1 | J39: Complement Específic Personal Laboral Temp | K39: 13050.49 | L39: =INDEX('A I D FUTURES'!$B:$B,MATCH(H39,'A I D FUTURES'!$A:$A,0)) -> #N/A
A40: Recursos Humans | B40: Recursos Humans | C40: 01 | D40: ALCALDIA | E40: 13200 | F40: Guàrdia Urbana | G40: 1500001 | H40: =_xlfn.CONCAT(E40,G40) -> 132001500001 | I40: =MID(G40,1,1) -> 1 | J40: Productivitat Personal Funcionari | K40: 80000 | L40: =INDEX('A I D FUTURES'!$B:$B,MATCH(H40,'A I D FUTURES'!$A:$A,0)) -> #N/A
...

Sheet ANNEX INVERSIONS
A1: ANNEX D'INVERSIONS
H2: =SUM(H4:H57) -> 2798433 | I2: =SUM(I4:I56) -> 126433 | K2: =SUM(K4:K56) -> 0 | M2: =SUM(M4:M56) -> 120000 | O2: =SUM(O4:O56)+SUM(Q4:Q56)+SUM(S4:S56)+SUM(U4:U56) -> 1209500 | W2: =SUM(W4:W56) -> 1339500
A3: OFICINA DEFINITIVA | B3: Prog. | C3: Progr | D3: Econ. | E3: concatenar | F3: cap | G3: Descripció | H3: Crèdit incial | I3: Recursos propis | J3: % | K3: venda de terreny | L3: % | M3: Aportacions privades | N3: % | O3: Next generation Estat i Gencat | P3: % | Q3: ESTAT | R3: % | S3: GENERALITAT | T3: % | U3: DIPUT LLEDIA | V3: % | W3: Crèdit a ll/t | X3: %
A4: =INDEX(DESPESES!$B:$B,MATCH(E4,DESPESES!$H:$H,0)) -> Governació | B4: =INDEX(DESPESES!$E:$E,MATCH(E4,DESPESES!$H:$H,0)) -> 13200 | C4: =INDEX(DESPESES!$F:$F,MATCH(E4,DESPESES!$H:$H,0)) -> Guàrdia Urbana | D4: =INDEX(DESPESES!$G:$G,MATCH(E4,DESPESES!$H:$H,0)) -> 6230001 | E4: 132006230001 | F4: =INDEX(DESPESES!$I:$I,MATCH(E4,DESPESES!$H:$H,0)) -> 6 | G4: =INDEX(DESPESES!$J:$J,MATCH(E4,DESPESES!$H:$H,0)) -> Compra Armes | H4: =INDEX(DESPESES!$K:$K,MATCH(E4,DESPESES!$H:$H,0)) -> 2000 | I4: =+H4-K4-O4-Q4-S4-U4-W4 -> 2000 | J4: =+I4/H4 -> 1 | L4: =+K4/H4 -> 0 | N4: =+M4/H4 -> 0 | P4: =+O4/H4 -> 0 | R4: =+Q4/H4 -> 0 | T4: =+S4/H4 -> 0 | V4: =+U4/H4 -> 0 | X4: =+W4/H4 -> 0
A5: =INDEX(DESPESES!$B:$B,MATCH(E5,DESPESES!$H:$H,0)) -> Governació | B5: =INDEX(DESPESES!$E:$E,MATCH(E5,DESPESES!$H:$H,0)) -> 13200 | C5: =INDEX(DESPESES!$F:$F,MATCH(E5,DESPESES!$H:$H,0)) -> Guàrdia Urbana | D5: =INDEX(DESPESES!$G:$G,MATCH(E5,DESPESES!$H:$H,0)) -> 6240001 | E5: 132006240001 | F5: =INDEX(DESPESES!$I:$I,MATCH(E5,DESPESES!$H:$H,0)) -> 6 | G5: =INDEX(DESPESES!$J:$J,MATCH(E5,DESPESES!$H:$H,0)) -> Compra vehicles (motos) | H5: =INDEX(DESPESES!$K:$K,MATCH(E5,DESPESES!$H:$H,0)) -> 16000 | I5: =+H5-K5-O5-Q5-S5-U5-W5 -> 0 | J5: =+I5/H5 -> 0 | L5: =+K5/H5 -> 0 | N5: =+M5/H5 -> 0 | P5: =+O5/H5 -> 0 | R5: =+Q5/H5 -> 0 | T5: =+S5/H5 -> 0 | V5: =+U5/H5 -> 0 | W5: 16000 | X5: =+W5/H5 -> 1
A6: =INDEX(DESPESES!$B:$B,MATCH(E6,DESPESES!$H:$H,0)) -> Administració General Informàtica | B6: =INDEX(DESPESES!$E:$E,MATCH(E6,DESPESES!$H:$H,0)) -> 13200 | C6: =INDEX(DESPESES!$F:$F,MATCH(E6,DESPESES!$H:$H,0)) -> Guàrdia Urbana | D6: =INDEX(DESPESES!$G:$G,MATCH(E6,DESPESES!$H:$H,0)) -> 6350001 | E6: 132006350001 | F6: =INDEX(DESPESES!$I:$I,MATCH(E6,DESPESES!$H:$H,0)) -> 6 | G6: =INDEX(DESPESES!$J:$J,MATCH(E6,DESPESES!$H:$H,0)) -> Compromisos intervencions via pública - càmeres ciutadania | H6: =INDEX(DESPESES!$K:$K,MATCH(E6,DESPESES!$H:$H,0)) -> 30000 | I6: =+H6-K6-O6-Q6-S6-U6-W6 -> 0 | J6: =+I6/H6 -> 0 | L6: =+K6/H6 -> 0 | N6: =+M6/H6 -> 0 | P6: =+O6/H6 -> 0 | R6: =+Q6/H6 -> 0 | T6: =+S6/H6 -> 0 | V6: =+U6/H6 -> 0 | W6: 30000 | X6: =+W6/H6 -> 1
A7: =INDEX(DESPESES!$B:$B,MATCH(E7,DESPESES!$H:$H,0)) -> Administració General Informàtica | B7: =INDEX(DESPESES!$E:$E,MATCH(E7,DESPESES!$H:$H,0)) -> 13200 | C7: =INDEX(DESPESES!$F:$F,MATCH(E7,DESPESES!$H:$H,0)) -> Guàrdia Urbana | D7: =INDEX(DESPESES!$G:$G,MATCH(E7,DESPESES!$H:$H,0)) -> 6410001 | E7: 132006410001 | F7: =INDEX(DESPESES!$I:$I,MATCH(E7,DESPESES!$H:$H,0)) -> 6 | G7: =INDEX(DESPESES!$J:$J,MATCH(E7,DESPESES!$H:$H,0)) -> Programari informàtic | H7: =INDEX(DESPESES!$K:$K,MATCH(E7,DESPESES!$H:$H,0)) -> 8833 | I7: =+H7-K7-O7-Q7-S7-U7-W7 -> 8833 | J7: =+I7/H7 -> 1 | L7: =+K7/H7 -> 0 | N7: =+M7/H7 -> 0 | P7: =+O7/H7 -> 0 | R7: =+Q7/H7 -> 0 | T7: =+S7/H7 -> 0 | V7: =+U7/H7 -> 0 | X7: =+W7/H7 -> 0
A8: =INDEX(DESPESES!$B:$B,MATCH(E8,DESPESES!$H:$H,0)) -> Urbanisme | B8: =INDEX(DESPESES!$E:$E,MATCH(E8,DESPESES!$H:$H,0)) -> 15100 | C8: =INDEX(DESPESES!$F:$F,MATCH(E8,DESPESES!$H:$H,0)) -> Urbanisme | D8: =INDEX(DESPESES!$G:$G,MATCH(E8,DESPESES!$H:$H,0)) -> 6090000 | E8: 151006090000 | F8: =INDEX(DESPESES!$I:$I,MATCH(E8,DESPESES!$H:$H,0)) -> 6 | G8: =INDEX(DESPESES!$J:$J,MATCH(E8,DESPESES!$H:$H,0)) -> Arrenjament Avinguda de Cervera | H8: =INDEX(DESPESES!$K:$K,MATCH(E8,DESPESES!$H:$H,0)) -> 500000 | I8: =+H8-K8-O8-Q8-S8-U8-W8 -> 0 | J8: =+I8/H8 -> 0 | L8: =+K8/H8 -> 0 | N8: =+M8/H8 -> 0 | P8: =+O8/H8 -> 0 | R8: =+Q8/H8 -> 0 | T8: =+S8/H8 -> 0 | V8: =+U8/H8 -> 0 | W8: 500000 | X8: =+W8/H8 -> 1
A9: =INDEX(DESPESES!$B:$B,MATCH(E9,DESPESES!$H:$H,0)) -> Urbanisme | B9: =INDEX(DESPESES!$E:$E,MATCH(E9,DESPESES!$H:$H,0)) -> 15100 | C9: =INDEX(DESPESES!$F:$F,MATCH(E9,DESPESES!$H:$H,0)) -> Urbanisme | D9: =INDEX(DESPESES!$G:$G,MATCH(E9,DESPESES!$H:$H,0)) -> 6090002 | E9: 151006090002 | F9: =INDEX(DESPESES!$I:$I,MATCH(E9,DESPESES!$H:$H,0)) -> 6 | G9: =INDEX(DESPESES!$J:$J,MATCH(E9,DESPESES!$H:$H,0)) -> Redacció de Projectes | H9: =INDEX(DESPESES!$K:$K,MATCH(E9,DESPESES!$H:$H,0)) -> 40000 | I9: =+H9-K9-O9-Q9-S9-U9-W9 -> 0 | J9: =+I9/H9 -> 0 | L9: =+K9/H9 -> 0 | N9: =+M9/H9 -> 0 | P9: =+O9/H9 -> 0 | R9: =+Q9/H9 -> 0 | S9: =+INGRESSOS!G165 -> 40000 | T9: =+S9/H9 -> 1 | V9: =+U9/H9 -> 0 | W9: 0 | X9: =+W9/H9 -> 0
A10: =INDEX(DESPESES!$B:$B,MATCH(E10,DESPESES!$H:$H,0)) -> Urbanisme | B10: =INDEX(DESPESES!$E:$E,MATCH(E10,DESPESES!$H:$H,0)) -> 15100 | C10: =INDEX(DESPESES!$F:$F,MATCH(E10,DESPESES!$H:$H,0)) -> Urbanisme | D10: =INDEX(DESPESES!$G:$G,MATCH(E10,DESPESES!$H:$H,0)) -> 6190058 | E10: 151006190058 | F10: =INDEX(DESPESES!$I:$I,MATCH(E10,DESPESES!$H:$H,0)) -> 6 | G10: =INDEX(DESPESES!$J:$J,MATCH(E10,DESPESES!$H:$H,0)) -> Pavimentació i adequació d'elements urbans de diferents punts de Tàrrega | H10: =INDEX(DESPESES!$K:$K,MATCH(E10,DESPESES!$H:$H,0)) -> 100000 | I10: =+H10-K10-O10-Q10-S10-U10-W10 -> 0 | J10: =+I10/H10 -> 0 | L10: =+K10/H10 -> 0 | N10: =+M10/H10 -> 0 | P10: =+O10/H10 -> 0 | R10: =+Q10/H10 -> 0 | T10: =+S10/H10 -> 0 | V10: =+U10/H10 -> 0 | W10: 100000 | X10: =+W10/H10 -> 1
A11: =INDEX(DESPESES!$B:$B,MATCH(E11,DESPESES!$H:$H,0)) -> Urbanisme | B11: =INDEX(DESPESES!$E:$E,MATCH(E11,DESPESES!$H:$H,0)) -> 15100 | C11: =INDEX(DESPESES!$F:$F,MATCH(E11,DESPESES!$H:$H,0)) -> Urbanisme | D11: =INDEX(DESPESES!$G:$G,MATCH(E11,DESPESES!$H:$H,0)) -> 6210000 | E11: 151006210000 | F11: =INDEX(DESPESES!$I:$I,MATCH(E11,DESPESES!$H:$H,0)) -> 6 | G11: =INDEX(DESPESES!$J:$J,MATCH(E11,DESPESES!$H:$H,0)) -> Conveni Endesa Sud-17 | H11: =INDEX(DESPESES!$K:$K,MATCH(E11,DESPESES!$H:$H,0)) -> 120000 | I11: =+H11-K11-O11-Q11-S11-U11-W11-M11 -> 0 | J11: =+I11/H11 -> 0 | L11: =+K11/H11 -> 0 | M11: =+INGRESSOS!G172 -> 120000 | N11: =+M11/H11 -> 1 | P11: =+O11/H11 -> 0 | R11: =+Q11/H11 -> 0 | T11: =+S11/H11 -> 0 | V11: =+U11/H11 -> 0 | X11: =+W11/H11 -> 0
A12: =INDEX(DESPESES!$B:$B,MATCH(E12,DESPESES!$H:$H,0)) -> Urbanisme | B12: =INDEX(DESPESES!$E:$E,MATCH(E12,DESPESES!$H:$H,0)) -> 15100 | C12: =INDEX(DESPESES!$F:$F,MATCH(E12,DESPESES!$H:$H,0)) -> Urbanisme | D12: =INDEX(DESPESES!$G:$G,MATCH(E12,DESPESES!$H:$H,0)) -> 6320013 | E12: 151006320013 | F12: =INDEX(DESPESES!$I:$I,MATCH(E12,DESPESES!$H:$H,0)) -> 6 | G12: =INDEX(DESPESES!$J:$J,MATCH(E12,DESPESES!$H:$H,0)) -> Accessibilitat equipaments municipals (Next Generation) | H12: =INDEX(DESPESES!$K:$K,MATCH(E12,DESPESES!$H:$H,0)) -> 182000 | I12: =+H12-K12-O12-Q12-S12-U12-W12 -> 0 | J12: =+I12/H12 -> 0 | L12: =+K12/H12 -> 0 | N12: =+M12/H12 -> 0 | O12: =+INGRESSOS!G173 -> 107000 | P12: =+O12/H12 -> 0.58791209 | R12: =+Q12/H12 -> 0 | T12: =+S12/H12 -> 0 | V12: =+U12/H12 -> 0 | W12: 75000 | X12: =+W12/H12 -> 0.41208791
A13: =INDEX(DESPESES!$B:$B,MATCH(E13,DESPESES!$H:$H,0)) -> Urbanisme | B13: =INDEX(DESPESES!$E:$E,MATCH(E13,DESPESES!$H:$H,0)) -> 15100 | C13: =INDEX(DESPESES!$F:$F,MATCH(E13,DESPESES!$H:$H,0)) -> Urbanisme | D13: =INDEX(DESPESES!$G:$G,MATCH(E13,DESPESES!$H:$H,0)) -> 6320014 | E13: 151006320014 | F13: =INDEX(DESPESES!$I:$I,MATCH(E13,DESPESES!$H:$H,0)) -> 6 | G13: =INDEX(DESPESES!$J:$J,MATCH(E13,DESPESES!$H:$H,0)) -> Eficiència energètica equipaments municipals (Next Generation) | H13: =INDEX(DESPESES!$K:$K,MATCH(E13,DESPESES!$H:$H,0)) -> 200000 | I13: =+H13-K13-O13-Q13-S13-U13-W13 -> 0 | J13: =+I13/H13 -> 0 | L13: =+K13/H13 -> 0 | N13: =+M13/H13 -> 0 | O13: =+INGRESSOS!G176 -> 100000 | P13: =+O13/H13 -> 0.5 | R13: =+Q13/H13 -> 0 | T13: =+S13/H13 -> 0 | V13: =+U13/H13 -> 0 | W13: 100000 | X13: =+W13/H13 -> 0.5
A14: =INDEX(DESPESES!$B:$B,MATCH(E14,DESPESES!$H:$H,0)) -> Urbanisme | B14: =INDEX(DESPESES!$E:$E,MATCH(E14,DESPESES!$H:$H,0)) -> 15320 | C14: =INDEX(DESPESES!$F:$F,MATCH(E14,DESPESES!$H:$H,0)) -> Vies Públiques | D14: =INDEX(DESPESES!$G:$G,MATCH(E14,DESPESES!$H:$H,0)) -> 6190059 | E14: 153206190059 | F14: =INDEX(DESPESES!$I:$I,MATCH(E14,DESPESES!$H:$H,0)) -> 6 | G14: =INDEX(DESPESES!$J:$J,MATCH(E14,DESPESES!$H:$H,0)) -> Seguretat viària C-14. Reducció accidents | H14: =INDEX(DESPESES!$K:$K,MATCH(E14,DESPESES!$H:$H,0)) -> 170000 | I14: =+H14-K14-O14-Q14-S14-U14-W14 -> 0 | J14: =+I14/H14 -> 0 | L14: =+K14/H14 -> 0 | N14: =+M14/H14 -> 0 | P14: =+O14/H14 -> 0 | R14: =+Q14/H14 -> 0 | S14: =+INGRESSOS!G167 -> 150000 | T14: =+S14/H14 -> 0.88235294 | V14: =+U14/H14 -> 0 | W14: 20000 | X14: =+W14/H14 -> 0.11764706
A15: =INDEX(DESPESES!$B:$B,MATCH(E15,DESPESES!$H:$H,0)) -> Serveis Municipals | B15: =INDEX(DESPESES!$E:$E,MATCH(E15,DESPESES!$H:$H,0)) -> 15320 | C15: =INDEX(DESPESES!$F:$F,MATCH(E15,DESPESES!$H:$H,0)) -> Vies Públiques | D15: =INDEX(DESPESES!$G:$G,MATCH(E15,DESPESES!$H:$H,0)) -> 6190039 | E15: 153206190039 | F15: =INDEX(DESPESES!$I:$I,MATCH(E15,DESPESES!$H:$H,0)) -> 6 | G15: =INDEX(DESPESES!$J:$J,MATCH(E15,DESPESES!$H:$H,0)) -> Accessiblitat | H15: =INDEX(DESPESES!$K:$K,MATCH(E15,DESPESES!$H:$H,0)) -> 5000 | I15: =+H15-K15-O15-Q15-S15-U15-W15 -> 5000 | J15: =+I15/H15 -> 1 | L15: =+K15/H15 -> 0 | N15: =+M15/H15 -> 0 | P15: =+O15/H15 -> 0 | R15: =+Q15/H15 -> 0 | T15: =+S15/H15 -> 0 | V15: =+U15/H15 -> 0 | X15: =+W15/H15 -> 0
A16: =INDEX(DESPESES!$B:$B,MATCH(E16,DESPESES!$H:$H,0)) -> Serveis Municipals | B16: =INDEX(DESPESES!$E:$E,MATCH(E16,DESPESES!$H:$H,0)) -> 15320 | C16: =INDEX(DESPESES!$F:$F,MATCH(E16,DESPESES!$H:$H,0)) -> Vies Públiques | D16: =INDEX(DESPESES!$G:$G,MATCH(E16,DESPESES!$H:$H,0)) -> 6230000 | E16: 153206230000 | F16: =INDEX(DESPESES!$I:$I,MATCH(E16,DESPESES!$H:$H,0)) -> 6 | G16: =INDEX(DESPESES!$J:$J,MATCH(E16,DESPESES!$H:$H,0)) -> Inversió nova de maquinària, instal·lacions tècniques i utillatge | H16: =INDEX(DESPESES!$K:$K,MATCH(E16,DESPESES!$H:$H,0)) -> 5000 | I16: =+H16-K16-O16-Q16-S16-U16-W16 -> 5000 | J16: =+I16/H16 -> 1 | L16: =+K16/H16 -> 0 | N16: =+M16/H16 -> 0 | P16: =+O16/H16 -> 0 | R16: =+Q16/H16 -> 0 | T16: =+S16/H16 -> 0 | V16: =+U16/H16 -> 0 | X16: =+W16/H16 -> 0
A17: =INDEX(DESPESES!$B:$B,MATCH(E17,DESPESES!$H:$H,0)) -> Urbanisme | B17: =INDEX(DESPESES!$E:$E,MATCH(E17,DESPESES!$H:$H,0)) -> 15320 | C17: =INDEX(DESPESES!$F:$F,MATCH(E17,DESPESES!$H:$H,0)) -> Vies Públiques | D17: =INDEX(DESPESES!$G:$G,MATCH(E17,DESPESES!$H:$H,0)) -> 6230002 | E17: 153206230002 | F17: =INDEX(DESPESES!$I:$I,MATCH(E17,DESPESES!$H:$H,0)) -> 6 | G17: =INDEX(DESPESES!$J:$J,MATCH(E17,DESPESES!$H:$H,0)) -> Punts de recàrrega vehicles elèctrics (Next Generation) | H17: =INDEX(DESPESES!$K:$K,MATCH(E17,DESPESES!$H:$H,0)) -> 25000 | I17: =+H17-K17-O17-Q17-S17-U17-W17 -> 0 | J17: =+I17/H17 -> 0 | L17: =+K17/H17 -> 0 | N17: =+M17/H17 -> 0 | O17: =+INGRESSOS!G174 -> 25000 | P17: =+O17/H17 -> 1 | R17: =+Q17/H17 -> 0 | T17: =+S17/H17 -> 0 | V17: =+U17/H17 -> 0 | X17: =+W17/H17 -> 0
A18: =INDEX(DESPESES!$B:$B,MATCH(E18,DESPESES!$H:$H,0)) -> Serveis Municipals | B18: =INDEX(DESPESES!$E:$E,MATCH(E18,DESPESES!$H:$H,0)) -> 15320 | C18: =INDEX(DESPESES!$F:$F,MATCH(E18,DESPESES!$H:$H,0)) -> Vies Públiques | D18: =INDEX(DESPESES!$G:$G,MATCH(E18,DESPESES!$H:$H,0)) -> 6250000 | E18: 153206250000 | F18: =INDEX(DESPESES!$I:$I,MATCH(E18,DESPESES!$H:$H,0)) -> 6 | G18: =INDEX(DESPESES!$J:$J,MATCH(E18,DESPESES!$H:$H,0)) -> Mobiliari | H18: =INDEX(DESPESES!$K:$K,MATCH(E18,DESPESES!$H:$H,0)) -> 5000 | I18: =+H18-K18-O18-Q18-S18-U18-W18 -> 5000 | J18: =+I18/H18 -> 1 | L18: =+K18/H18 -> 0 | N18: =+M18/H18 -> 0 | P18: =+O18/H18 -> 0 | R18: =+Q18/H18 -> 0 | T18: =+S18/H18 -> 0 | V18: =+U18/H18 -> 0 | X18: =+W18/H18 -> 0
A19: =INDEX(DESPESES!$B:$B,MATCH(E19,DESPESES!$H:$H,0)) -> Serveis Municipals | B19: =INDEX(DESPESES!$E:$E,MATCH(E19,DESPESES!$H:$H,0)) -> 15320 | C19: =INDEX(DESPESES!$F:$F,MATCH(E19,DESPESES!$H:$H,0)) -> Vies Públiques | D19: =INDEX(DESPESES!$G:$G,MATCH(E19,DESPESES!$H:$H,0)) -> 6340000 | E19: 153206340000 | F19: =INDEX(DESPESES!$I:$I,MATCH(E19,DESPESES!$H:$H,0)) -> 6 | G19: =INDEX(DESPESES!$J:$J,MATCH(E19,DESPESES!$H:$H,0)) -> Elements de transport | H19: =INDEX(DESPESES!$K:$K,MATCH(E19,DESPESES!$H:$H,0)) -> 30000 | I19: =+H19-K19-O19-Q19-S19-U19-W19 -> 0 | J19: =+I19/H19 -> 0 | L19: =+K19/H19 -> 0 | N19: =+M19/H19 -> 0 | P19: =+O19/H19 -> 0 | R19: =+Q19/H19 -> 0 | T19: =+S19/H19 -> 0 | V19: =+U19/H19 -> 0 | W19: 30000 | X19: =+W19/H19 -> 1
A20: =INDEX(DESPESES!$B:$B,MATCH(E20,DESPESES!$H:$H,0)) -> Urbanisme | B20: =INDEX(DESPESES!$E:$E,MATCH(E20,DESPESES!$H:$H,0)) -> 16000 | C20: =INDEX(DESPESES!$F:$F,MATCH(E20,DESPESES!$H:$H,0)) -> Clavegueram. | D20: =INDEX(DESPESES!$G:$G,MATCH(E20,DESPESES!$H:$H,0)) -> 6500004 | E20: 160006500004 | F20: =INDEX(DESPESES!$I:$I,MATCH(E20,DESPESES!$H:$H,0)) -> 6 | G20: =INDEX(DESPESES!$J:$J,MATCH(E20,DESPESES!$H:$H,0)) -> Reposicions i millores ACA | H20: =INDEX(DESPESES!$K:$K,MATCH(E20,DESPESES!$H:$H,0)) -> 500000 | I20: =+H20-K20-O20-Q20-S20-U20-W20 -> 0 | J20: =+I20/H20 -> 0 | L20: =+K20/H20 -> 0 | N20: =+M20/H20 -> 0 | P20: =+O20/H20 -> 0 | R20: =+Q20/H20 -> 0 | S20: =+INGRESSOS!G169 -> 500000 | T20: =+S20/H20 -> 1 | V20: =+U20/H20 -> 0 | X20: =+W20/H20 -> 0
A21: =INDEX(DESPESES!$B:$B,MATCH(E21,DESPESES!$H:$H,0)) -> Serveis Municipals | B21: =INDEX(DESPESES!$E:$E,MATCH(E21,DESPESES!$H:$H,0)) -> 16300 | C21: =INDEX(DESPESES!$F:$F,MATCH(E21,DESPESES!$H:$H,0)) -> Neteja viària. | D21: =INDEX(DESPESES!$G:$G,MATCH(E21,DESPESES!$H:$H,0)) -> 6230000 | E21: 163006230000 | F21: =INDEX(DESPESES!$I:$I,MATCH(E21,DESPESES!$H:$H,0)) -> 6 | G21: =INDEX(DESPESES!$J:$J,MATCH(E21,DESPESES!$H:$H,0)) -> Inversió nova de maquinària, instal·lacions tècniques i utillatge | H21: =INDEX(DESPESES!$K:$K,MATCH(E21,DESPESES!$H:$H,0)) -> 3000 | I21: =+H21-K21-O21-Q21-S21-U21-W21 -> 3000 | J21: =+I21/H21 -> 1 | L21: =+K21/H21 -> 0 | N21: =+M21/H21 -> 0 | P21: =+O21/H21 -> 0 | R21: =+Q21/H21 -> 0 | T21: =+S21/H21 -> 0 | V21: =+U21/H21 -> 0 | X21: =+W21/H21 -> 0
A22: =INDEX(DESPESES!$B:$B,MATCH(E22,DESPESES!$H:$H,0)) -> Urbanisme | B22: =INDEX(DESPESES!$E:$E,MATCH(E22,DESPESES!$H:$H,0)) -> 16500 | C22: =INDEX(DESPESES!$F:$F,MATCH(E22,DESPESES!$H:$H,0)) -> Enllumenat públic | D22: =INDEX(DESPESES!$G:$G,MATCH(E22,DESPESES!$H:$H,0)) -> 6190057 | E22: 165006190057 | F22: =INDEX(DESPESES!$I:$I,MATCH(E22,DESPESES!$H:$H,0)) -> 6 | G22: =INDEX(DESPESES!$J:$J,MATCH(E22,DESPESES!$H:$H,0)) -> Enllumenat públic leds carrer Sant Pelegrí | H22: =INDEX(DESPESES!$K:$K,MATCH(E22,DESPESES!$H:$H,0)) -> 56000 | I22: =+H22-K22-O22-Q22-S22-U22-W22 -> 0 | J22: =+I22/H22 -> 0 | L22: =+K22/H22 -> 0 | N22: =+M22/H22 -> 0 | P22: =+O22/H22 -> 0 | R22: =+Q22/H22 -> 0 | T22: =+S22/H22 -> 0 | U22: =+INGRESSOS!G170 -> 49000 | V22: =+U22/H22 -> 0.875 | W22: 7000 | X22: =+W22/H22 -> 0.125
A23: =INDEX(DESPESES!$B:$B,MATCH(E23,DESPESES!$H:$H,0)) -> Serveis Municipals | B23: =INDEX(DESPESES!$E:$E,MATCH(E23,DESPESES!$H:$H,0)) -> 16500 | C23: =INDEX(DESPESES!$F:$F,MATCH(E23,DESPESES!$H:$H,0)) -> Enllumenat públic | D23: =INDEX(DESPESES!$G:$G,MATCH(E23,DESPESES!$H:$H,0)) -> 6190053 | E23: 165006190053 | F23: =INDEX(DESPESES!$I:$I,MATCH(E23,DESPESES!$H:$H,0)) -> 6 | G23: =INDEX(DESPESES!$J:$J,MATCH(E23,DESPESES!$H:$H,0)) -> Renovació i modernització enllumenat públic | H23: =INDEX(DESPESES!$K:$K,MATCH(E23,DESPESES!$H:$H,0)) -> 80000 | I23: =+H23-K23-O23-Q23-S23-U23-W23 -> 0 | J23: =+I23/H23 -> 0 | L23: =+K23/H23 -> 0 | N23: =+M23/H23 -> 0 | P23: =+O23/H23 -> 0 | R23: =+Q23/H23 -> 0 | T23: =+S23/H23 -> 0 | V23: =+U23/H23 -> 0 | W23: 80000 | X23: =+W23/H23 -> 1
A24: =INDEX(DESPESES!$B:$B,MATCH(E24,DESPESES!$H:$H,0)) -> Urbanisme | B24: =INDEX(DESPESES!$E:$E,MATCH(E24,DESPESES!$H:$H,0)) -> 17100 | C24: =INDEX(DESPESES!$F:$F,MATCH(E24,DESPESES!$H:$H,0)) -> Parcs i jardins | D24: =INDEX(DESPESES!$G:$G,MATCH(E24,DESPESES!$H:$H,0)) -> 6190060 | E24: 171006190060 | F24: =INDEX(DESPESES!$I:$I,MATCH(E24,DESPESES!$H:$H,0)) -> 6 | G24: =INDEX(DESPESES!$J:$J,MATCH(E24,DESPESES!$H:$H,0)) -> Arrenjaments Parc de Sant Eloi | H24: =INDEX(DESPESES!$K:$K,MATCH(E24,DESPESES!$H:$H,0)) -> 25000 | I24: =+H24-K24-O24-Q24-S24-U24-W24 -> 0 | J24: =+I24/H24 -> 0 | L24: =+K24/H24 -> 0 | N24: =+M24/H24 -> 0 | P24: =+O24/H24 -> 0 | R24: =+Q24/H24 -> 0 | T24: =+S24/H24 -> 0 | V24: =+U24/H24 -> 0 | W24: 25000 | X24: =+W24/H24 -> 1
A25: =INDEX(DESPESES!$B:$B,MATCH(E25,DESPESES!$H:$H,0)) -> Serveis Municipals | B25: =INDEX(DESPESES!$E:$E,MATCH(E25,DESPESES!$H:$H,0)) -> 17100 | C25: =INDEX(DESPESES!$F:$F,MATCH(E25,DESPESES!$H:$H,0)) -> Parcs i jardins | D25: =INDEX(DESPESES!$G:$G,MATCH(E25,DESPESES!$H:$H,0)) -> 6230000 | E25: 171006230000 | F25: =INDEX(DESPESES!$I:$I,MATCH(E25,DESPESES!$H:$H,0)) -> 6 | G25: =INDEX(DESPESES!$J:$J,MATCH(E25,DESPESES!$H:$H,0)) -> Inversió nova de maquinària, instal·lacions tècniques i utillatge | H25: =INDEX(DESPESES!$K:$K,MATCH(E25,DESPESES!$H:$H,0)) -> 3000 | I25: =+H25-K25-O25-Q25-S25-U25-W25 -> 3000 | J25: =+I25/H25 -> 1 | L25: =+K25/H25 -> 0 | N25: =+M25/H25 -> 0 | P25: =+O25/H25 -> 0 | R25: =+Q25/H25 -> 0 | T25: =+S25/H25 -> 0 | V25: =+U25/H25 -> 0 | X25: =+W25/H25 -> 0
A26: =INDEX(DESPESES!$B:$B,MATCH(E26,DESPESES!$H:$H,0)) -> Urbanisme | B26: =INDEX(DESPESES!$E:$E,MATCH(E26,DESPESES!$H:$H,0)) -> 17200 | C26: =INDEX(DESPESES!$F:$F,MATCH(E26,DESPESES!$H:$H,0)) -> Protecció i millora del medi ambient | D26: =INDEX(DESPESES!$G:$G,MATCH(E26,DESPESES!$H:$H,0)) -> 6190038 | E26: 172006190038 | F26: =INDEX(DESPESES!$I:$I,MATCH(E26,DESPESES!$H:$H,0)) -> 6 | G26: =INDEX(DESPESES!$J:$J,MATCH(E26,DESPESES!$H:$H,0)) -> Plantació arbres riu Ondara | H26: =INDEX(DESPESES!$K:$K,MATCH(E26,DESPESES!$H:$H,0)) -> 3000 | I26: =+H26-K26-O26-Q26-S26-U26-W26 -> 3000 | J26: =+I26/H26 -> 1 | L26: =+K26/H26 -> 0 | N26: =+M26/H26 -> 0 | P26: =+O26/H26 -> 0 | R26: =+Q26/H26 -> 0 | T26: =+S26/H26 -> 0 | V26: =+U26/H26 -> 0 | X26: =+W26/H26 -> 0
A27: =INDEX(DESPESES!$B:$B,MATCH(E27,DESPESES!$H:$H,0)) -> Administració General Informàtica | B27: =INDEX(DESPESES!$E:$E,MATCH(E27,DESPESES!$H:$H,0)) -> 24100 | C27: =INDEX(DESPESES!$F:$F,MATCH(E27,DESPESES!$H:$H,0)) -> Centre La Solana | D27: =INDEX(DESPESES!$G:$G,MATCH(E27,DESPESES!$H:$H,0)) -> 6360000 | E27: 241006360000 | F27: =INDEX(DESPESES!$I:$I,MATCH(E27,DESPESES!$H:$H,0)) -> 6 | G27: =INDEX(DESPESES!$J:$J,MATCH(E27,DESPESES!$H:$H,0)) -> Adquisició equips informàtic | H27: =INDEX(DESPESES!$K:$K,MATCH(E27,DESPESES!$H:$H,0)) -> 1000 | I27: =+H27-K27-O27-Q27-S27-U27-W27 -> 1000 | J27: =+I27/H27 -> 1 | L27: =+K27/H27 -> 0 | N27: =+M27/H27 -> 0 | P27: =+O27/H27 -> 0 | R27: =+Q27/H27 -> 0 | T27: =+S27/H27 -> 0 | V27: =+U27/H27 -> 0 | X27: =+W27/H27 -> 0
A28: =INDEX(DESPESES!$B:$B,MATCH(E28,DESPESES!$H:$H,0)) -> Tresoreria | B28: =INDEX(DESPESES!$E:$E,MATCH(E28,DESPESES!$H:$H,0)) -> 32302 | C28: =INDEX(DESPESES!$F:$F,MATCH(E28,DESPESES!$H:$H,0)) -> Col·legi Àngel Guimerà | D28: =INDEX(DESPESES!$G:$G,MATCH(E28,DESPESES!$H:$H,0)) -> 6320021 | E28: 323026320021 | F28: =INDEX(DESPESES!$I:$I,MATCH(E28,DESPESES!$H:$H,0)) -> 6 | G28: =INDEX(DESPESES!$J:$J,MATCH(E28,DESPESES!$H:$H,0)) -> Ocupació dels terrenys de l'Àngel Guimerà | H28: =INDEX(DESPESES!$K:$K,MATCH(E28,DESPESES!$H:$H,0)) -> 7000 | I28: =+H28-K28-O28-Q28-S28-U28-W28 -> 7000 | J28: =+I28/H28 -> 1 | L28: =+K28/H28 -> 0 | N28: =+M28/H28 -> 0 | P28: =+O28/H28 -> 0 | R28: =+Q28/H28 -> 0 | T28: =+S28/H28 -> 0 | V28: =+U28/H28 -> 0 | X28: =+W28/H28 -> 0
A29: =INDEX(DESPESES!$B:$B,MATCH(E29,DESPESES!$H:$H,0)) -> E_Música | B29: =INDEX(DESPESES!$E:$E,MATCH(E29,DESPESES!$H:$H,0)) -> 32600 | C29: =INDEX(DESPESES!$F:$F,MATCH(E29,DESPESES!$H:$H,0)) -> Escola de Música | D29: =INDEX(DESPESES!$G:$G,MATCH(E29,DESPESES!$H:$H,0)) -> 6330006 | E29: 326006330006 | F29: =INDEX(DESPESES!$I:$I,MATCH(E29,DESPESES!$H:$H,0)) -> 6 | G29: =INDEX(DESPESES!$J:$J,MATCH(E29,DESPESES!$H:$H,0)) -> Material docent | H29: =INDEX(DESPESES!$K:$K,MATCH(E29,DESPESES!$H:$H,0)) -> 1000 | I29: =+H29-K29-O29-Q29-S29-U29-W29 -> 1000 | J29: =+I29/H29 -> 1 | L29: =+K29/H29 -> 0 | N29: =+M29/H29 -> 0 | P29: =+O29/H29 -> 0 | R29: =+Q29/H29 -> 0 | T29: =+S29/H29 -> 0 | V29: =+U29/H29 -> 0 | X29: =+W29/H29 -> 0
A30: =INDEX(DESPESES!$B:$B,MATCH(E30,DESPESES!$H:$H,0)) -> E_Música | B30: =INDEX(DESPESES!$E:$E,MATCH(E30,DESPESES!$H:$H,0)) -> 32600 | C30: =INDEX(DESPESES!$F:$F,MATCH(E30,DESPESES!$H:$H,0)) -> Escola de Música | D30: =INDEX(DESPESES!$G:$G,MATCH(E30,DESPESES!$H:$H,0)) -> 6330009 | E30: 326006330009 | F30: =INDEX(DESPESES!$I:$I,MATCH(E30,DESPESES!$H:$H,0)) -> 6 | G30: =INDEX(DESPESES!$J:$J,MATCH(E30,DESPESES!$H:$H,0)) -> Instruments musicals | H30: =INDEX(DESPESES!$K:$K,MATCH(E30,DESPESES!$H:$H,0)) -> 3000 | I30: =+H30-K30-O30-Q30-S30-U30-W30 -> 3000 | J30: =+I30/H30 -> 1 | L30: =+K30/H30 -> 0 | N30: =+M30/H30 -> 0 | P30: =+O30/H30 -> 0 | R30: =+Q30/H30 -> 0 | T30: =+S30/H30 -> 0 | V30: =+U30/H30 -> 0 | X30: =+W30/H30 -> 0
A31: =INDEX(DESPESES!$B:$B,MATCH(E31,DESPESES!$H:$H,0)) -> Administració General Informàtica | B31: =INDEX(DESPESES!$E:$E,MATCH(E31,DESPESES!$H:$H,0)) -> 32600 | C31: =INDEX(DESPESES!$F:$F,MATCH(E31,DESPESES!$H:$H,0)) -> Escola de Música | D31: =INDEX(DESPESES!$G:$G,MATCH(E31,DESPESES!$H:$H,0)) -> 6360000 | E31: 326006360000 | F31: =INDEX(DESPESES!$I:$I,MATCH(E31,DESPESES!$H:$H,0)) -> 6 | G31: =INDEX(DESPESES!$J:$J,MATCH(E31,DESPESES!$H:$H,0)) -> Adquisició equips informàtic | H31: =INDEX(DESPESES!$K:$K,MATCH(E31,DESPESES!$H:$H,0)) -> 1000 | I31: =+H31-K31-O31-Q31-S31-U31-W31 -> 1000 | J31: =+I31/H31 -> 1 | L31: =+K31/H31 -> 0 | N31: =+M31/H31 -> 0 | P31: =+O31/H31 -> 0 | R31: =+Q31/H31 -> 0 | T31: =+S31/H31 -> 0 | V31: =+U31/H31 -> 0 | X31: =+W31/H31 -> 0
A32: =INDEX(DESPESES!$B:$B,MATCH(E32,DESPESES!$H:$H,0)) -> Administració General Informàtica | B32: =INDEX(DESPESES!$E:$E,MATCH(E32,DESPESES!$H:$H,0)) -> 32601 | C32: =INDEX(DESPESES!$F:$F,MATCH(E32,DESPESES!$H:$H,0)) -> Gòtic | D32: =INDEX(DESPESES!$G:$G,MATCH(E32,DESPESES!$H:$H,0)) -> 6360000 | E32: 326016360000 | F32: =INDEX(DESPESES!$I:$I,MATCH(E32,DESPESES!$H:$H,0)) -> 6 | G32: =INDEX(DESPESES!$J:$J,MATCH(E32,DESPESES!$H:$H,0)) -> Adquisició equips informàtic | H32: =INDEX(DESPESES!$K:$K,MATCH(E32,DESPESES!$H:$H,0)) -> 3500 | I32: =+H32-K32-O32-Q32-S32-U32-W32 -> 3500 | J32: =+I32/H32 -> 1 | L32: =+K32/H32 -> 0 | N32: =+M32/H32 -> 0 | P32: =+O32/H32 -> 0 | R32: =+Q32/H32 -> 0 | T32: =+S32/H32 -> 0 | V32: =+U32/H32 -> 0 | X32: =+W32/H32 -> 0
A33: =INDEX(DESPESES!$B:$B,MATCH(E33,DESPESES!$H:$H,0)) -> Cultura | B33: =INDEX(DESPESES!$E:$E,MATCH(E33,DESPESES!$H:$H,0)) -> 33000 | C33: =INDEX(DESPESES!$F:$F,MATCH(E33,DESPESES!$H:$H,0)) -> Administració general de cultura | D33: =INDEX(DESPESES!$G:$G,MATCH(E33,DESPESES!$H:$H,0)) -> 6220009 | E33: 330006220009 | F33: =INDEX(DESPESES!$I:$I,MATCH(E33,DESPESES!$H:$H,0)) -> 6 | G33: =INDEX(DESPESES!$J:$J,MATCH(E33,DESPESES!$H:$H,0)) -> Casa Pedrolo | H33: =INDEX(DESPESES!$K:$K,MATCH(E33,DESPESES!$H:$H,0)) -> 10000 | I33: =+H33-K33-O33-Q33-S33-U33-W33 -> 10000 | J33: =+I33/H33 -> 1 | L33: =+K33/H33 -> 0 | N33: =+M33/H33 -> 0 | P33: =+O33/H33 -> 0 | R33: =+Q33/H33 -> 0 | T33: =+S33/H33 -> 0 | V33: =+U33/H33 -> 0 | X33: =+W33/H33 -> 0
A34: =INDEX(DESPESES!$B:$B,MATCH(E34,DESPESES!$H:$H,0)) -> Biblioteca | B34: =INDEX(DESPESES!$E:$E,MATCH(E34,DESPESES!$H:$H,0)) -> 33210 | C34: =INDEX(DESPESES!$F:$F,MATCH(E34,DESPESES!$H:$H,0)) -> Biblioteca Germanes Güell | D34: =INDEX(DESPESES!$G:$G,MATCH(E34,DESPESES!$H:$H,0)) -> 6250000 | E34: 332106250000 | F34: =INDEX(DESPESES!$I:$I,MATCH(E34,DESPESES!$H:$H,0)) -> 6 | G34: =INDEX(DESPESES!$J:$J,MATCH(E34,DESPESES!$H:$H,0)) -> Mobiliari | H34: =INDEX(DESPESES!$K:$K,MATCH(E34,DESPESES!$H:$H,0)) -> 2500 | I34: =+H34-K34-O34-Q34-S34-U34-W34 -> 2500 | J34: =+I34/H34 -> 1 | L34: =+K34/H34 -> 0 | N34: =+M34/H34 -> 0 | P34: =+O34/H34 -> 0 | R34: =+Q34/H34 -> 0 | T34: =+S34/H34 -> 0 | V34: =+U34/H34 -> 0 | X34: =+W34/H34 -> 0
A35: =INDEX(DESPESES!$B:$B,MATCH(E35,DESPESES!$H:$H,0)) -> Biblioteca | B35: =INDEX(DESPESES!$E:$E,MATCH(E35,DESPESES!$H:$H,0)) -> 33210 | C35: =INDEX(DESPESES!$F:$F,MATCH(E35,DESPESES!$H:$H,0)) -> Biblioteca Germanes Güell | D35: =INDEX(DESPESES!$G:$G,MATCH(E35,DESPESES!$H:$H,0)) -> 6250001 | E35: 332106250001 | F35: =INDEX(DESPESES!$I:$I,MATCH(E35,DESPESES!$H:$H,0)) -> 6 | G35: =INDEX(DESPESES!$J:$J,MATCH(E35,DESPESES!$H:$H,0)) -> Compra mobiliari sala treball en grup | H35: =INDEX(DESPESES!$K:$K,MATCH(E35,DESPESES!$H:$H,0)) -> 15000 | I35: =+H35-K35-O35-Q35-S35-U35-W35 -> 0 | J35: =+I35/H35 -> 0 | L35: =+K35/H35 -> 0 | N35: =+M35/H35 -> 0 | P35: =+O35/H35 -> 0 | R35: =+Q35/H35 -> 0 | T35: =+S35/H35 -> 0 | V35: =+U35/H35 -> 0 | W35: 15000 | X35: =+W35/H35 -> 1
A36: =INDEX(DESPESES!$B:$B,MATCH(E36,DESPESES!$H:$H,0)) -> Biblioteca | B36: =INDEX(DESPESES!$E:$E,MATCH(E36,DESPESES!$H:$H,0)) -> 33210 | C36: =INDEX(DESPESES!$F:$F,MATCH(E36,DESPESES!$H:$H,0)) -> Biblioteca Germanes Güell | D36: =INDEX(DESPESES!$G:$G,MATCH(E36,DESPESES!$H:$H,0)) -> 6290000 | E36: 332106290000 | F36: =INDEX(DESPESES!$I:$I,MATCH(E36,DESPESES!$H:$H,0)) -> 6 | G36: =INDEX(DESPESES!$J:$J,MATCH(E36,DESPESES!$H:$H,0)) -> Llibres | H36: =INDEX(DESPESES!$K:$K,MATCH(E36,DESPESES!$H:$H,0)) -> 11000 | I36: =+H36-K36-O36-Q36-S36-U36-W36 -> 1000 | J36: =+I36/H36 -> 0.090909091 | L36: =+K36/H36 -> 0 | N36: =+M36/H36 -> 0 | P36: =+O36/H36 -> 0 | R36: =+Q36/H36 -> 0 | S36: =+INGRESSOS!G168 -> 10000 | T36: =+S36/H36 -> 0.90909091 | V36: =+U36/H36 -> 0 | X36: =+W36/H36 -> 0
A37: =INDEX(DESPESES!$B:$B,MATCH(E37,DESPESES!$H:$H,0)) -> Urbanisme | B37: =INDEX(DESPESES!$E:$E,MATCH(E37,DESPESES!$H:$H,0)) -> 33301 | C37: =INDEX(DESPESES!$F:$F,MATCH(E37,DESPESES!$H:$H,0)) -> Museu Cal Trepat | D37: =INDEX(DESPESES!$G:$G,MATCH(E37,DESPESES!$H:$H,0)) -> 6320036 | E37: 333016320036 | F37: =INDEX(DESPESES!$I:$I,MATCH(E37,DESPESES!$H:$H,0)) -> 6 | G37: =INDEX(DESPESES!$J:$J,MATCH(E37,DESPESES!$H:$H,0)) -> Teulada nau 18 | H37: =INDEX(DESPESES!$K:$K,MATCH(E37,DESPESES!$H:$H,0)) -> 75000 | I37: =+H37-K37-O37-Q37-S37-U37-W37 -> 0 | J37: =+I37/H37 -> 0 | L37: =+K37/H37 -> 0 | N37: =+M37/H37 -> 0 | P37: =+O37/H37 -> 0 | R37: =+Q37/H37 -> 0 | S37: =+INGRESSOS!G166 -> 37500 | T37: =+S37/H37 -> 0.5 | V37: =+U37/H37 -> 0 | W37: 37500 | X37: =+W37/H37 -> 0.5
A38: =INDEX(DESPESES!$B:$B,MATCH(E38,DESPESES!$H:$H,0)) -> Museu_Tàrrega | B38: =INDEX(DESPESES!$E:$E,MATCH(E38,DESPESES!$H:$H,0)) -> 33302 | C38: =INDEX(DESPESES!$F:$F,MATCH(E38,DESPESES!$H:$H,0)) -> Museu Comarcal | D38: =INDEX(DESPESES!$G:$G,MATCH(E38,DESPESES!$H:$H,0)) -> 6330001 | E38: 333026330001 | F38: =INDEX(DESPESES!$I:$I,MATCH(E38,DESPESES!$H:$H,0)) -> 6 | G38: =INDEX(DESPESES!$J:$J,MATCH(E38,DESPESES!$H:$H,0)) -> Inversió il·luminació | H38: =INDEX(DESPESES!$K:$K,MATCH(E38,DESPESES!$H:$H,0)) -> 5000 | I38: =+H38-K38-O38-Q38-S38-U38-W38 -> 5000 | J38: =+I38/H38 -> 1 | L38: =+K38/H38 -> 0 | N38: =+M38/H38 -> 0 | P38: =+O38/H38 -> 0 | R38: =+Q38/H38 -> 0 | T38: =+S38/H38 -> 0 | V38: =+U38/H38 -> 0 | X38: =+W38/H38 -> 0
A39: =INDEX(DESPESES!$B:$B,MATCH(E39,DESPESES!$H:$H,0)) -> Museu_Tàrrega | B39: =INDEX(DESPESES!$E:$E,MATCH(E39,DESPESES!$H:$H,0)) -> 33302 | C39: =INDEX(DESPESES!$F:$F,MATCH(E39,DESPESES!$H:$H,0)) -> Museu Comarcal | D39: =INDEX(DESPESES!$G:$G,MATCH(E39,DESPESES!$H:$H,0)) -> 6890000 | E39: 333026890000 | F39: =INDEX(DESPESES!$I:$I,MATCH(E39,DESPESES!$H:$H,0)) -> 6 | G39: =INDEX(DESPESES!$J:$J,MATCH(E39,DESPESES!$H:$H,0)) -> Adquisició Cap Gòtic Portalada Parròquia | H39: =INDEX(DESPESES!$K:$K,MATCH(E39,DESPESES!$H:$H,0)) -> 1500 | I39: =+H39-K39-O39-Q39-S39-U39-W39 -> 1500 | J39: =+I39/H39 -> 1 | L39: =+K39/H39 -> 0 | N39: =+M39/H39 -> 0 | P39: =+O39/H39 -> 0 | R39: =+Q39/H39 -> 0 | T39: =+S39/H39 -> 0 | V39: =+U39/H39 -> 0 | X39: =+W39/H39 -> 0
A40: =INDEX(DESPESES!$B:$B,MATCH(E40,DESPESES!$H:$H,0)) -> Cultura | B40: =INDEX(DESPESES!$E:$E,MATCH(E40,DESPESES!$H:$H,0)) -> 33401 | C40: =INDEX(DESPESES!$F:$F,MATCH(E40,DESPESES!$H:$H,0)) -> Teatre Ateneu | D40: =INDEX(DESPESES!$G:$G,MATCH(E40,DESPESES!$H:$H,0)) -> 6230000 | E40: 334016230000 | F40: =INDEX(DESPESES!$I:$I,MATCH(E40,DESPESES!$H:$H,0)) -> 6 | G40: =INDEX(DESPESES!$J:$J,MATCH(E40,DESPESES!$H:$H,0)) -> Inversió nova de maquinària, instal·lacions tècniques i utillatge | H40: =INDEX(DESPESES!$K:$K,MATCH(E40,DESPESES!$H:$H,0)) -> 4000 | I40: =+H40-K40-O40-Q40-S40-U40-W40 -> 4000 | J40: =+I40/H40 -> 1 | L40: =+K40/H40 -> 0 | N40: =+M40/H40 -> 0 | P40: =+O40/H40 -> 0 | R40: =+Q40/H40 -> 0 | T40: =+S40/H40 -> 0 | V40: =+U40/H40 -> 0 | X40: =+W40/H40 -> 0
...

Sheet CONSOLIDAT
A1: INGRESSOS
B3: AJUNTAMENT | C3: EPEL | D3: SUMTA | E3: TOTAL | F3: TRANSFERENCIES INTERNES | G3: TOTAL CONSOLIDAT
A4: Etiquetas de fila | B4: Suma de PRESS 2023
A5: 1 | B5: 7712400 | C5: 0 | E5: =GETPIVOTDATA("PRESS 2023",$A$4,"EC","1")+C5+D5 -> 7712400 | G5: =E5-F5 -> 7712400
A6: 2 | B6: 450000 | C6: 0 | E6: =GETPIVOTDATA("PRESS 2023",$A$4,"EC","2")+C6+D6 -> 450000 | G6: =E6-F6 -> 450000
A7: 3 | B7: 3838627 | C7: 333550 | E7: =GETPIVOTDATA("PRESS 2023",$A$4,"EC","3")+C7+D7 -> 4172177 | G7: =E7-F7 -> 4172177
A8: 4 | B8: 5985716 | C8: 869650 | D8: 9000 | E8: =GETPIVOTDATA("PRESS 2023",$A$4,"EC","4")+C8+D8 -> 6864366 | F8: =171000+45000 -> 216000 | G8: =E8-F8 -> 6648366
A9: 5 | B9: 388503 | C9: 800 | E9: =GETPIVOTDATA("PRESS 2023",$A$4,"EC","5")+C9+D9 -> 389303 | G9: =E9-F9 -> 389303
A10: 7 | B10: 1329500 | C10: 0 | E10: =GETPIVOTDATA("PRESS 2023",$A$4,"EC","7")+C10+D10 -> 1329500 | G10: =E10-F10 -> 1329500
A11: 9 | B11: 1339500 | C11: 0 | E11: =GETPIVOTDATA("PRESS 2023",$A$4,"EC","9")+C11+D11 -> 1339500 | G11: =E11-F11 -> 1339500
A12: Total general | B12: 21044246 | C12: =SUM(C5:C11) -> 1204000 | D12: =SUM(D5:D11) -> 9000 | E12: =SUM(E5:E11) -> 22257246 | F12: =SUM(F5:F11) -> 216000 | G12: =SUM(G5:G11) -> 22041246
A15: DESPESES
B16: AJUNTAMENT | C16: EPEL | D16: SUMTA | E16: TOTAL | F16: TRANSFERENCIES INTERNES | G16: TOTAL CONSOLIDAT
A17: Etiquetas de fila | B17: Suma de PRESS 2023
A18: 1 | B18: 8294415.7 | C18: 424000 | D18: 0 | E18: =GETPIVOTDATA("PRESS 2023",$A$17,"cap","1")+C18+D18 -> 8718415.7 | G18: =E18-F18 -> 8718415.7
A19: 2 | B19: 7151872.8 | C19: 777300 | D19: 8900 | E19: =GETPIVOTDATA("PRESS 2023",$A$17,"cap","2")+C19+D19 -> 7938072.8 | G19: =E19-F19 -> 7938072.8
A20: 3 | B20: 157611.9 | C20: 2700 | D20: 100 | E20: =GETPIVOTDATA("PRESS 2023",$A$17,"cap","3")+C20+D20 -> 160411.9 | G20: =E20-F20 -> 160411.9
A21: 4 | B21: 943210 | C21: 0 | D21: 0 | E21: =GETPIVOTDATA("PRESS 2023",$A$17,"cap","4")+C21+D21 -> 943210 | F21: =171000+45000 -> 216000 | G21: =E21-F21 -> 727210
A22: 5 | B22: 48400 | C22: 0 | D22: 0 | E22: =GETPIVOTDATA("PRESS 2023",$A$17,"cap","5")+C22+D22 -> 48400 | G22: =E22-F22 -> 48400
A23: 6 | B23: 2798433 | C23: 0 | D23: 0 | E23: =GETPIVOTDATA("PRESS 2023",$A$17,"cap","6")+C23+D23 -> 2798433 | G23: =E23-F23 -> 2798433
A24: 7 | B24: 44200 | C24: 0 | D24: 0 | E24: =GETPIVOTDATA("PRESS 2023",$A$17,"cap","7")+C24+D24 -> 44200 | G24: =E24-F24 -> 44200
A25: 9 | B25: 1606102.6 | C25: 0 | D25: 0 | E25: =GETPIVOTDATA("PRESS 2023",$A$17,"cap","9")+C25+D25 -> 1606102.6 | G25: =E25-F25 -> 1606102.6
A26: Total general | B26: 21044246 | C26: =SUM(C18:C25) -> 1204000 | D26: =SUM(D18:D25) -> 9000 | E26: =SUM(E18:E25) -> 22257246 | F26: =SUM(F18:F25) -> 216000 | G26: =SUM(G18:G25) -> 22041246
B29: =GETPIVOTDATA("PRESS 2023",$A$17,"cap","9") -> 1606102.6
B30: =DESPESES!N14 -> 107611.9
B31: =SUM(B29:B30) -> 1713714.5

Sheet RATI DEUTE VIU
A1: RATI DEL DEUTE VIU
B2: LIQ. 2021 CONSOLIDADA
B4: AJUNTAMENT | C4: EPEL | D4: SUMTA | E4: TRANSFERENCIES INTERNES | F4: TOTAL CONSOLIDAT
B5: Suma de Drets reconeguts nets
A6: 1 | B6: 7827360.6 | C6: 0 | D6: 0 | F6: 7827360.6
A7: 2 | B7: 373231.48 | C7: 0 | D7: 0 | F7: 373231.48
A8: 3 | B8: 3424149.1 | C8: 205289.29 | D8: 0 | F8: 3629438.4
A9: 4 | B9: 6148627.7 | C9: 930308.5 | D9: 0 | E9: 173258.5 | F9: 6905677.7
A10: 5 | B10: 102885.72 | C10: 0 | D10: 0 | F10: 102885.72
A11: 6 | B11: 70901 | C11: 0 | D11: 0 | F11: 70901
A12: 7 | B12: 631813.76 | C12: 0 | D12: 0 | F12: 631813.76
A13: 8 | B13: 0 | C13: 0 | D13: 0 | F13: 0
A14: 9 | B14: 1997033.8 | C14: 0 | D14: 0 | F14: 1997033.8
A15: Total general | B15: =SUM(B6:B14) -> 20576003 | C15: =SUM(C6:C14) -> 1135597.8 | D15: =SUM(D6:D14) -> 0 | E15: =SUM(E6:E14) -> 173258.5 | F15: =SUM(F6:F14) -> 21538342
B18: CONSOLIDATS | C18: LIQ. 2021
B19: cap 1 | C19: =F6 -> 7827360.6
B20: cap 2 | C20: =F7 -> 373231.48
B21: cap 3 | C21: =F8 -> 3629438.4
B22: cap 4 | C22: =F9+173258.5 -> 7078936.2
B23: cap 5 | C23: =F10 -> 102885.72
B24: transferències internes | C24: =-E9 -> -173258.5 | G24: INGRESSOS EXTRAORDINARIS | H24: =SUM(H26:H29) -> 232011.38
B25: TOTAL DRN | C25: =SUM(C19:C24) -> 18838594
B26: CCEE | C26: -9883.91 | F26: 4501001 | G26: Fons Extraordinari Cooperació local COVID-19 | H26: 171843.48
B27: INGRESSOS EXTRAORDINARIS | C27: =-H24 -> -232011.38 | F27: 4506004 | G27: Conveni CATSALUT habilitació espai vacunació COVID-19 | H27: 5775.5
B28: DRN CORRENTS | C28: =C25+C26+C27 -> 18596699 | F28: 4508030 | G28: Subv OSIC Pèrdues aforament espais escènics i musicals COVID-19 | H28: 53460
F29: 4508031 | G29: Subv.Ajuts organització fires_COVID-19_CCAM | H29: 932.4
B33: Ingressos corrents liquidació 2021 consolidat | C33: =C28 -> 18596699
B34: Deute Viu ll/t 31/12/2023 | C34: 4255595.8
B35: Deute viu c/t previst 31/12/2023 | C35: 0
B36: Deute Viu 31/12/2023 | C36: =C34+C35 -> 4255595.8
B37: Rati Legal deute viu | C37: =C36/C33 -> 0.22883609

Sheet ESTALVI NET
A1: ESTALVI NET
A4: Econ. | B4: Descripció | C4: AJUNTAMENT
A5: 1 | B5: IMPOSTOS DIRECTES | C5: =GETPIVOTDATA("PRESS 2023",CONSOLIDAT!$A$4,"EC","1") -> 7712400
A6: 2 | B6: IMPOSTOS INDIRECTES | C6: =GETPIVOTDATA("PRESS 2023",CONSOLIDAT!$A$4,"EC","2") -> 450000
A7: 3 | B7: TAXES I ALTRES INGRESSOS | C7: =GETPIVOTDATA("PRESS 2023",CONSOLIDAT!$A$4,"EC","3") -> 3838627
A8: 4 | B8: TRANSFERENCIES CORRENTS | C8: =GETPIVOTDATA("PRESS 2023",CONSOLIDAT!$A$4,"EC","4") -> 5985716
A9: 5 | B9: INGRESSOS PATRIMONIALS | C9: =GETPIVOTDATA("PRESS 2023",CONSOLIDAT!$A$4,"EC","5") -> 388503
B10: INGRESSOS CORRENTS (1) | C10: =SUM(C5:C9) -> 18375246
A11: 1 | B11: DESPESES DE PERSONAL | C11: =GETPIVOTDATA("PRESS 2023",CONSOLIDAT!$A$17,"cap","1") -> 8294415.7
A12: 2 | B12: COMPRA DE BÉNS I SERVEIS | C12: =GETPIVOTDATA("PRESS 2023",CONSOLIDAT!$A$17,"cap","2") -> 7151872.8
A13: 4 | B13: TRANSFERENCIES CORRENTS | C13: =GETPIVOTDATA("PRESS 2023",CONSOLIDAT!$A$17,"cap","4") -> 943210
B14: DESPESES CORRENTS (2) | C14: =SUM(C11:C13) -> 16389499
B15: ESTALVI BRUT (1-2 = 3) | C15: =+C10-C14 -> 1985747.5
B16: DESPESES CAPITAL FINANCERES (4) (A. TEORICA) | C16: =GETPIVOTDATA("PRESS 2023",CONSOLIDAT!$A$17,"cap","3")+GETPIVOTDATA("PRESS 2023",CONSOLIDAT!$A$17,"cap","9") -> 1763714.5 | D16: (CAP 3 + CAP 9)
B17: ESTALVI NET (3-4 = 5) | C17: =+C15-C16 -> 222033

Sheet CLASSIF INGRESSOS
A1: CLASSIFICACIÓ ECÒNOMIQUES D'INGRESSOS | E1: https://www.boe.es/buscar/act.php?id=BOE-A-2008-19916
A2: Capítulo | B2: Artículo | C2: Concepto | D2: Subconcepto | E2: Denominación
A3: 1 | E3: Impuestos directos.
B4: 10 | E4: Impuesto sobre la Renta.
C5: 100 | E5: Impuestos sobre la Renta de las Personas Físicas.
C6: 101 | E6: Impuesto sobre Sociedades.
C7: 102 | E7: Impuesto sobre la Renta de No Residentes.
B8: 11 | E8: Impuestos sobre el capital.
C9: 110 | E9: Impuesto sobre Sucesiones y Donaciones.
C10: 111 | E10: Impuesto sobre Patrimonio.
C11: 112 | E11: Impuesto sobre Bienes Inmuebles. Bienes Inmuebles de Naturaleza Rústica.
C12: 113 | E12: Impuesto sobre Bienes Inmuebles. Bienes inmuebles de Naturaleza Urbana.
C13: 114 | E13: Impuesto sobre Bienes Inmuebles. Bienes Inmuebles de características especiales.
C14: 115 | E14: Impuesto sobre Vehículos de Tracción Mecánica.
C15: 116 | E15: Impuesto sobre Incremento del Valor de los Terrenos de Naturaleza Urbana.
C16: 117 | E16: Impuesto sobre viviendas desocupadas.
B17: 13 | E17: Impuesto sobre las Actividades Económicas.
C18: 130 | E18: Impuesto sobre Actividades Económicas.
B19: 16 | E19: Recargos sobre impuestos directos del Estado y de la Comunidad Autónoma.
C20: 160 | E20: Sobre impuestos del Estado.
C21: 161 | E21: Sobre impuestos de la Comunidad Autónoma.
B22: 17 | E22: Recargos sobre impuestos directos de otros entes locales.
C23: 170 | E23: En el Impuesto sobre Bienes Inmuebles.
C24: 171 | E24: Recargo provincial en el Impuesto sobre Actividades Económicas.
C25: 179 | E25: Otros recargos sobre impuestos directos de otros entes locales.
B26: 18 | E26: Impuestos directos extinguidos.
B27: 19 | E27: Otros impuestos directos.
A28: 2 | E28: Impuestos indirectos.
B29: 21 | E29: Impuestos sobre el Valor Añadido.
C30: 210 | E30: Impuesto sobre el Valor Añadido.
B31: 22 | E31: Sobre consumos específicos.
C32: 220 | E32: Impuestos Especiales.
D33: 220.00 | E33: Impuesto sobre el alcohol y bebidas derivadas.
D34: 220.01 | E34: Impuesto sobre la cerveza.
D35: 220.02 | E35: Impuesto sobre el vino y bebidas fermentadas.
D36: 220.03 | E36: Impuesto sobre las labores del tabaco.
D37: 220.04 | E37: Impuesto sobre hidrocarburos.
D38: 220.05 | E38: Impuesto sobre determinados medios de transporte.
D39: 220.06 | E39: Impuesto sobre productos intermedios.
D40: 220.07 | E40: Impuesto sobre la energía.
...

Sheet CLASSIF DESPESES
A1: CLASSIFICACIÓ ECÒNOMIQUES DE DESPESA | B1: https://www.boe.es/buscar/act.php?id=BOE-A-2008-19916
A2: Capítulo | B2: Artículo | C2: Concepto | D2: Subconcepto | E2: Denominación
A3: 1 | E3: GASTOS DE PERSONAL.
B4: 10 | E4: Órganos de gobierno y personal directivo.
C5: 100 | E5: Retribuciones básicas y otras remuneraciones de los miembros de los órganos de gobierno.
D6: 100.00 | E6: Retribuciones básicas.
D7: 100.01 | E7: Otras remuneraciones.
C8: 101 | E8: Retribuciones básicas y otras remuneraciones del personal directivo.
D9: 101.00 | E9: Retribuciones básicas.
D10: 101.01 | E10: Otras remuneraciones.
C11: 107 | E11: Contribuciones a planes y fondos de pensiones.
D12: 107.00 | E12: De los miembros de los órganos de gobierno.
D13: 107.01 | E13: Del personal directivo.
B14: 11 | E14: Personal eventual.
C15: 110 | E15: Retribuciones básicas y otras remuneraciones de personal eventual.
D16: 110.00 | E16: Retribuciones básicas.
D17: 110.01 | E17: Retribuciones complementarias.
D18: 110.02 | E18: Otras remuneraciones.
C19: 117 | E19: Contribuciones a planes y fondos de pensiones.
B20: 12 | E20: Personal Funcionario.
C21: 120 | E21: Retribuciones básicas.
D22: 120.00 | E22: Sueldos del Grupo A1.
D23: 120.01 | E23: Sueldos del Grupo A2.
D24: 120.02 | E24: Sueldos del Grupo B.
D25: 120.03 | E25: Sueldos del Grupo C1.
D26: 120.04 | E26: Sueldos del Grupo C2.
D27: 120.05 | E27: Sueldos del Grupo E.
D28: 120.06 | E28: Trienios.
D29: 120.09 | E29: Otras retribuciones básicas.
C30: 121 | E30: Retribuciones complementarias.
D31: 121.00 | E31: Complemento de destino.
D32: 121.01 | E32: Complemento específico.
D33: 121.03 | E33: Otros complementos.
C34: 122 | E34: Retribuciones en especie.
C35: 124 | E35: Retribuciones de funcionarios en prácticas (mismo desglose que 120).
C36: 127 | E36: Contribuciones a planes y fondos de pensiones.
B37: 13 | E37: Personal Laboral.
C38: 130 | E38: Laboral Fijo.
D39: 130.00 | E39: Retribuciones básicas.
D40: 130.01 | E40: Horas extraordinarias
...

Sheet OFICINES
A1: Igualtat, salut i joventut | D1: 13200 | E1: Guàrdia Urbana
A2: Acció Social | D2: 13500 | E2: Protecció civil
A3: Administració General Informàtica | D3: 15100 | E3: Urbanisme
A4: Administració General Secretaria | D4: 15200 | E4: Habitatge
A5: Alcaldia | D5: 15320 | E5: Vies Públiques
A6: Biblioteca | D6: 16000 | E6: Clavegueram.
A7: Centre la Solana | D7: 16100 | E7: Proveïment domiciliari d’aigua potable.
A8: Centre Obert | D8: 16200 | E8: Recollida, gestió i tractament de residus.
A9: Complex piscines | D9: 16300 | E9: Neteja viària.
A10: Comunicació | D10: 16400 | E10: Cementiri i serveis funeraris
A11: Consergeria | D11: 16500 | E11: Enllumenat públic
A12: Cultura | D12: 17100 | E12: Parcs i jardins
... A32: Urbanisme | D32: 24130 | E32: 30 PLUS 21 (2021-2022)
D33: 24131 | E33: TREBALL I FORMACIÓ MG45 I DONA 2021 (2021-2023)
D34: 24132 | E34: PROJECTE SINGULARS 21 (21-22)
D35: 24133 | E35: TREBALL I FORMACIÓ 21 ANTICIPADA 22 (22-23)
D36: 43013 | E36: AODL INNOVACIÓ EMPRESARIAL
D37: 43014 | E37: AODL COACHING EMPRESARIAL
D38: 43015 | E38: AODL 21-22 DESENVOLUPAMENT COMERCIAL I TURÍSTIC
D39: 43016 | E39: AODL 21-22 FOMENT EMPRESARIAL
D40: 31100 | E40: Accions Públiques Relatives a la Salut
D41: 32000 | E41: Administració general d’educació
D42: 32301 | E42: Col·legi Jacint Verdaguer
D43: 32302 | E43: Col·legi Àngel Guimerà
D44: 32303 | E44: Col·legi Maria Mercè Marçal
... D110: 93100 | E110: Política econòmica i fiscal
D111: 01100 | E111: Interessos
D112: 01102 | E112: Amortitzacions

Sheet partides cgap
A1: 1000001 | B1: Alcaldia
A2: 1000101 | B2: Regidors Corporació
A3: 1000102 | B3: Altres remuneracions
